BEGIN:VCALENDAR
VERSION:2.0
PRODID:-//Fundación Javier Marín - ECPv4.9.7//NONSGML v1.0//EN
CALSCALE:GREGORIAN
METHOD:PUBLISH
X-WR-CALNAME:Fundación Javier Marín
X-ORIGINAL-URL:https://fundacionjaviermarin.mx/en/
X-WR-CALDESC:Events for Fundación Javier Marín
BEGIN:VTIMEZONE
TZID:"America/Mexico_City"
BEGIN:STANDARD
TZOFFSETFROM:-0600
TZOFFSETTO:-0600
TZNAME:CST
DTSTART:20230101T000000
END:STANDARD
END:VTIMEZONE
BEGIN:VEVENT
DTSTART;TZID="America/Mexico_City":20230118T100000
DTEND;TZID="America/Mexico_City":20230214T200000
DTSTAMP:20260423T144123
CREATED:20230124T220216Z
LAST-MODIFIED:20230124T220717Z
UID:6448-1674036000-1676404800@fundacionjaviermarin.mx
SUMMARY:PUNTO DE PARTIDA: Modas\, tramas y textiles Exhibition in Palacio de Hierro Polanco
DESCRIPTION:50 fashion designers\n \nCurated by Ana Elena Mallet \nJanuary 18 to february 14  – 11h a 21h\n \nEl Palacio de Hierro Polanco. \nMexico City \n Designers: 1/8 Takamura\, Alberto Rodríguez\, Alejandra Quesada\, Armanto Takeda\, Aurea Bucio\, Aurora Ares\, Benito Santos\, Carla Fernández\, Carmen Rion\, Casa Nortes\, Casilda Mut\, Cecilia García Molinero\, CIHUAH\, Collectiva Concepción\, Costaiia\, Cynthia Buttenklepper\, Diana Altamirano\, El Llamafante\, ESANT\, Fernanda Mereles\, Gabriel Ortiz de Ora\, Grieve\, Guillermo Jester\, Guillermo León\, Guillermo Meraz\, Héctor Serna\, Iván Ávalos\, Korimi Kids\, Macario Jiménez\, MANCANDY\, Minoru Kobayashi\, Natalia Silva\, Paulina y Malinali\, PTRA\, Pink Magnolia\, Raúl Ozuna\, René Orozco\, Sadie Trigueros\, Sandra Weil\, Simple by Trista\, Sophie Massun\, Steph Orozco\, Takasami\, Ximena Corcuera\, Yakampot\, Yoloxochitl Alvarado. \n
URL:https://fundacionjaviermarin.mx/en/encuentro/javier-marin-tres-cabezas-2/
LOCATION:Palacio de Hierro Polanco\, Moliere 222\, Polanco Segunda Secc\, Ciudad de México\, Ciudad de México\, 11530\, México
ATTACH;FMTTYPE=image/jpeg:https://fundacionjaviermarin.mx/wp-content/uploads/2023/01/Flyer-Punto-de-Partida.jpeg
ORGANIZER;CN="Fundaci%C3%B3n%20Javier%20Mar%C3%ADn":MAILTO:contacto@fundacionjaviermarin.mx
END:VEVENT
END:VCALENDAR