BEGIN:VCALENDAR
VERSION:2.0
PRODID:-//Fundación Javier Marín - ECPv4.9.7//NONSGML v1.0//EN
CALSCALE:GREGORIAN
METHOD:PUBLISH
X-WR-CALNAME:Fundación Javier Marín
X-ORIGINAL-URL:https://fundacionjaviermarin.mx
X-WR-CALDESC:Eventos para Fundación Javier Marín
BEGIN:VTIMEZONE
TZID:"UTC"
BEGIN:STANDARD
TZOFFSETFROM:+0000
TZOFFSETTO:+0000
TZNAME:UTC
DTSTART:20240101T000000
END:STANDARD
END:VTIMEZONE
BEGIN:VEVENT
DTSTART;TZID="UTC":20241018T110000
DTEND;TZID="UTC":20241027T230000
DTSTAMP:20260424T040405
CREATED:20241010T180607Z
LAST-MODIFIED:20241010T181220Z
UID:7090-1729249200-1730070000@fundacionjaviermarin.mx
SUMMARY:Casa Spina en el marco del XXII Festival Internacional de Cine de Morelia
DESCRIPTION:[vc_row css_animation=»» row_type=»row» use_row_as_full_screen_section=»no» type=»full_width» angled_section=»no» text_align=»left» background_image_as_pattern=»without_pattern» padding_top=»60″][vc_column][vc_column_text css=»»] \n\n\n\n\nEn el marco del XXII Festival Internacional de Cine de Morelia\, Casa Spina presenta: \nGraciela Iturbide\nFotografía \nLa Colmena\nProductos de diseño con causa \nTierra de Iyari\nCocina Mexicana \nCasa Marín\nMezcalería \nDel 18 al 27 de octubre\nGalería y tienda: 11:00 am a 7:00 pm\nCocina y mezcalería: 11:00 am a 11:00 pm \nJardín de las Rosas\, calle El Nigromante #146\, Centro Histórico\, Morelia\, Mich. \n\n\n\n\n[/vc_column_text][/vc_column][/vc_row] \n
URL:https://fundacionjaviermarin.mx/encuentro/casa-spina-en-el-marco-del-xxii-festival-internacional-de-cine-de-morelia/
LOCATION:Casa Spina\, El Nigromante #146\, Centro Histórico\, Morelia\, Michoacán\, México
CATEGORIES:Independientes,Multidisciplina,Otros,Performance
ATTACH;FMTTYPE=image/png:https://fundacionjaviermarin.mx/wp-content/uploads/2024/10/Flyer-digital-Casa-Spina-2024-vertical_Mesa-de-trabajo-1_Mesa-de-trabajo-1.png
ORGANIZER;CN="Fundaci%C3%B3n%20Javier%20Mar%C3%ADn":MAILTO:contacto@fundacionjaviermarin.mx
END:VEVENT
END:VCALENDAR