BEGIN:VCALENDAR
VERSION:2.0
PRODID:-//Fundación Javier Marín - ECPv4.9.7//NONSGML v1.0//EN
CALSCALE:GREGORIAN
METHOD:PUBLISH
X-WR-CALNAME:Fundación Javier Marín
X-ORIGINAL-URL:https://fundacionjaviermarin.mx
X-WR-CALDESC:Eventos para Fundación Javier Marín
BEGIN:VTIMEZONE
TZID:"UTC"
BEGIN:STANDARD
TZOFFSETFROM:+0000
TZOFFSETTO:+0000
TZNAME:UTC
DTSTART:20160101T000000
END:STANDARD
END:VTIMEZONE
BEGIN:VEVENT
DTSTART;TZID="UTC":20161018T123000
DTEND;TZID="UTC":20161018T143000
DTSTAMP:20260425T213042
CREATED:20180524T185839Z
LAST-MODIFIED:20180524T185839Z
UID:2228-1476793800-1476801000@fundacionjaviermarin.mx
SUMMARY:Encuentro con Ana Elena Mallet. Curaduría y trayectoria profesional
DESCRIPTION:[vc_row css_animation=»» row_type=»row» use_row_as_full_screen_section=»no» type=»full_width» angled_section=»no» text_align=»left» background_image_as_pattern=»without_pattern» padding_top=»60″][vc_column][vc_column_text][/vc_column_text][vc_separator type=»normal» down=»30″][vc_column_text]Ana Elena Mallet (México\, D.F. 1971) es una curadora independiente especializada en diseño moderno y contemporáneo. Estudió la Licenciatura de Literatura Latinoamericana en la Universidad Iberoamericana y la Maestría en Historia del Arte en la Facultad de Filosofía y Letras en la UNAM. \nLe interesan especialmente los cruces entre el arte contemporáneo y el diseño\, además de la relación de ambas disciplinas con la cultura popular. \nTrabajó como curadora en el Museo Soumaya\, en el Museo de Arte Carrillo Gil y fue subdirectora de programación del Museo Rufino Tamayo. \nFue curadora en jefe del Museo del Objeto el Objeto desde su Fundación en octubre de 2010 hasta Noviembre de 2011\, institución donde aún permanece como asesora.\nComo curadora independiente ha realizado diversas exposiciones de arte\, moda y diseño en museos de México y el extranjero. \nDe 2007 a 2012 coordinó para el Patronato de arte contemporáneo AC (PAC) la investigación\, programación y realización del proyecto www.mexartdb.com\, una página de consulta que busca poner a la mano la historia del arte contemporáneo en México de los últimos 20 años.\nHa sido docente en instituciones como la Universidad Iberoamericana\, Centro y el Centro de la Imagen. \nEntre 2010 y 2012 llevó la dirección curatorial del proyecto Destination: Mexico que llevó el trabajo de 60 diseñadores mexicanos a las tiendas de Museo de Arte Moderno de Nueva York en la propia ciudad de Nueva York y en Tokio. \nDesde 2009 dirige y coordina el Corredor Cultural Roma Condesa que lleva ya once ediciones.\nActualmente trabaja en varias exposiciones sobre diseño latinoamericano que se presentarán en Estados Unidos entre 2014 y 2017.[/vc_column_text][vc_empty_space height=»60px»][vc_separator type=»normal» down=»30″][vc_gallery type=»image_grid» images=»2393\,2392\,2391″ img_size=»medium» column_number=»5″ grayscale=»no» images_space=»gallery_with_space»][/vc_column][/vc_row] \n
URL:https://fundacionjaviermarin.mx/encuentro/encuentro-con-ana-elena-mallet-curaduria-y-trayectoria-profesional/
CATEGORIES:Artista Plástico/Visual
ATTACH;FMTTYPE=image/png:https://fundacionjaviermarin.mx/wp-content/uploads/2018/05/AnaElena-MALLET.png
ORGANIZER;CN="Fundaci%C3%B3n%20Javier%20Mar%C3%ADn":MAILTO:contacto@fundacionjaviermarin.mx
END:VEVENT
END:VCALENDAR