BEGIN:VCALENDAR
VERSION:2.0
PRODID:-//Fundación Javier Marín - ECPv4.9.7//NONSGML v1.0//EN
CALSCALE:GREGORIAN
METHOD:PUBLISH
X-WR-CALNAME:Fundación Javier Marín
X-ORIGINAL-URL:https://fundacionjaviermarin.mx
X-WR-CALDESC:Eventos para Fundación Javier Marín
BEGIN:VTIMEZONE
TZID:"UTC"
BEGIN:STANDARD
TZOFFSETFROM:+0000
TZOFFSETTO:+0000
TZNAME:UTC
DTSTART:20160101T000000
END:STANDARD
END:VTIMEZONE
BEGIN:VEVENT
DTSTART;TZID="UTC":20160308T040000
DTEND;TZID="UTC":20160308T180000
DTSTAMP:20260420T182548
CREATED:20180212T185715Z
LAST-MODIFIED:20180522T182630Z
UID:1686-1457409600-1457460000@fundacionjaviermarin.mx
SUMMARY:Encuentro con Eduardo Mier y Terán/Sue Andrade. Tema: Gestión de Javier Marín Corpus y esculturas en el espacio público
DESCRIPTION:[vc_row css_animation=»» row_type=»row» use_row_as_full_screen_section=»no» type=»full_width» angled_section=»no» text_align=»left» background_image_as_pattern=»without_pattern» padding_top=»60″][vc_column][vc_column_text] \nDescripción\n[/vc_column_text][vc_separator type=»normal» down=»30″][vc_column_text]Eduardo Mier y Terán y Sue Andrade \nGalerista y gestora cultural Gestión de exposición Corpus y esculturas en el espacio público.[/vc_column_text][vc_empty_space height=»60px»][vc_separator type=»normal» down=»30″][/vc_column][/vc_row][vc_row css_animation=»» row_type=»row» use_row_as_full_screen_section=»no» type=»full_width» angled_section=»no» text_align=»left» background_image_as_pattern=»without_pattern»][vc_column][vc_gallery type=»image_grid» images=»1687\,1688\,1692\,1693\,1694\,1695″ img_size=»medium» column_number=»5″ grayscale=»no» images_space=»gallery_with_space»][/vc_column][/vc_row] \n
URL:https://fundacionjaviermarin.mx/encuentro/encuentro-con-eduardo-mier-y-teran-sue-andrade-tema-gestion-de-javier-marin-corpus-y-esculturas-en-el-espacio-publico/
CATEGORIES:Artista Plástico/Visual,Escultor,Gestor
ATTACH;FMTTYPE=image/jpeg:https://fundacionjaviermarin.mx/wp-content/uploads/2018/02/IMG_0851-1.jpg
ORGANIZER;CN="Fundaci%C3%B3n%20Javier%20Mar%C3%ADn":MAILTO:contacto@fundacionjaviermarin.mx
END:VEVENT
END:VCALENDAR