BEGIN:VCALENDAR
VERSION:2.0
PRODID:-//Fundación Javier Marín - ECPv4.9.7//NONSGML v1.0//EN
CALSCALE:GREGORIAN
METHOD:PUBLISH
X-WR-CALNAME:Fundación Javier Marín
X-ORIGINAL-URL:https://fundacionjaviermarin.mx
X-WR-CALDESC:Eventos para Fundación Javier Marín
BEGIN:VTIMEZONE
TZID:"UTC"
BEGIN:STANDARD
TZOFFSETFROM:+0000
TZOFFSETTO:+0000
TZNAME:UTC
DTSTART:20160101T000000
END:STANDARD
END:VTIMEZONE
BEGIN:VEVENT
DTSTART;TZID="UTC":20160414T110000
DTEND;TZID="UTC":20160414T150000
DTSTAMP:20260421T160506
CREATED:20180228T000409Z
LAST-MODIFIED:20180517T152536Z
UID:1782-1460631600-1460646000@fundacionjaviermarin.mx
SUMMARY:Encuentro con Elin Luque. Tema: Coleccionismo
DESCRIPTION:[vc_row css_animation=»» row_type=»row» use_row_as_full_screen_section=»no» type=»full_width» angled_section=»no» text_align=»left» background_image_as_pattern=»without_pattern» padding_top=»60″][vc_column][vc_column_text] \nDescripción\n[/vc_column_text][vc_separator type=»normal» down=»30″][vc_column_text]Elin Luque\, directora de Artes Visuales Casa Lamm \nEstudió la licenciatura en Historia del Arte\, Maestría en Arte y Estudios de Museos. Doctorada Cum Laude por la UNED de Madrid en Historia del Arte. Su tesis recibió el reconocimiento de «Tesis extraordinaria 2013-2014”. \nEn relación a su especialidad académica\, los exvotos pictóricos\, desde hace más de veinte años viene realizando inventarios en paralelo a proyectos de restauración y gestión del patrimonio; con este tema tiene diversas curadurías\, exposiciones y publicaciones tanto en México como en el extranjero así como participación en coloquios nacionales e internacionales.\nEs profesora y sinodal del claustro de maestros de Casa Lamm y forma parte del claustro de sinodales en el posgrado de Historia del Arte de la UNAM.\nActualmente labora en Casa Lamm institución en la que participó como fundadora\, en la que ha ganado becas para desarrollar diversos programas a favor del arte y la cultura de México y generado múltiples curadurías\, exposiciones y publicaciones impresas y virtuales para artistas de la galería Casa Lamm (www.galeriacasalamm.com.mx).\nParticipa en proyectos institucionales de museografía\, mercado-adquisición de obra de arte\, amén del coleccionismo público y privado.\nPor último\, forma parte de la Mesa Directiva ICOM México (Internacional Counsil of Museums) y de AICA (Asociación Internacional de Críticos de Arte).[/vc_column_text][vc_empty_space height=»60px»][vc_separator type=»normal» down=»30″][vc_gallery type=»image_grid» images=»1856\,1794\,1796″ img_size=»medium» column_number=»5″ grayscale=»no» images_space=»gallery_with_space»][/vc_column][/vc_row] \n
URL:https://fundacionjaviermarin.mx/encuentro/encuentro-con-elin-luque-tema-coleccionismo/
CATEGORIES:Artista Plástico/Visual
ATTACH;FMTTYPE=image/jpeg:https://fundacionjaviermarin.mx/wp-content/uploads/2018/02/6-5-e1520880202970.jpg
ORGANIZER;CN="Fundaci%C3%B3n%20Javier%20Mar%C3%ADn":MAILTO:contacto@fundacionjaviermarin.mx
END:VEVENT
END:VCALENDAR