BEGIN:VCALENDAR
VERSION:2.0
PRODID:-//Fundación Javier Marín - ECPv4.9.7//NONSGML v1.0//EN
CALSCALE:GREGORIAN
METHOD:PUBLISH
X-WR-CALNAME:Fundación Javier Marín
X-ORIGINAL-URL:https://fundacionjaviermarin.mx
X-WR-CALDESC:Eventos para Fundación Javier Marín
BEGIN:VTIMEZONE
TZID:"UTC"
BEGIN:STANDARD
TZOFFSETFROM:+0000
TZOFFSETTO:+0000
TZNAME:UTC
DTSTART:20160101T000000
END:STANDARD
END:VTIMEZONE
BEGIN:VEVENT
DTSTART;TZID="UTC":20160309T160000
DTEND;TZID="UTC":20160309T180000
DTSTAMP:20260420T185113
CREATED:20180212T190645Z
LAST-MODIFIED:20180522T182336Z
UID:1697-1457539200-1457546400@fundacionjaviermarin.mx
SUMMARY:Encuentro con Ery Cámara. Tema: Javier Marín Corpus
DESCRIPTION:[vc_row css_animation=»» row_type=»row» use_row_as_full_screen_section=»no» type=»full_width» angled_section=»no» text_align=»left» background_image_as_pattern=»without_pattern» padding_top=»60″][vc_column][vc_column_text] \nDescripción\n[/vc_column_text][vc_separator type=»normal» down=»30″][vc_column_text]Ery Cámara\, curador \nCuraduría exposición Javier Marín\, Corpus \nVisita la exposición Javier Marín. Corpus\, con el curador. \nEry Cámara es artista\, crítico de arte y museólogo de origen senegalés. Desde 1975 radica en la Cuidad de México donde estudió la Licenciatura en Restauración de Bienes Culturales y la Maestría en Museología. Desde 2004 es Coordinador de Exposiciones y registro de obra del Antiguo Colegio de San Ildefonso. También es miembro del Patronato de Arte Contemporáneo. \nEn 2001 fue Presidente del Jurado de la 49 Bienal de Venecia\, y dirigió el Simposio Internacional de Teoría sobre Arte Contemporánea SITAC 2002-2003. \nCorpus es una selección de esculturas de Javier Marín que revisa dos décadas de la trayectoria profesional del artista en obras poco vistas en México. Elemento esencial de su discurso estético\, la figura humana encarnada en barro\, bronce\, resinas y madera con una originalidad deslumbrante constituye un léxico irreductible a las formas o al estilo. Es el eslabón que ha escogido Javier Marín para materializar motivaciones y emociones\, conceptualizar inquietudes y retos cuya energía queda palpable en la piel surcada de estas figuras. \n  \nhttp://www.revistacodigo.com/entrevista-la-experiencia-de-ery-camara-con-las-tendencias-colorlife-2015/ \n[/vc_column_text][vc_empty_space height=»60px»][vc_separator type=»normal» down=»30″][/vc_column][/vc_row][vc_row css_animation=»» row_type=»row» use_row_as_full_screen_section=»no» type=»full_width» angled_section=»no» text_align=»left» background_image_as_pattern=»without_pattern»][vc_column][vc_gallery type=»image_grid» images=»1698\,1699\,1701\,1702\,1703\,1704″ img_size=»medium» column_number=»5″ grayscale=»no» images_space=»gallery_with_space»][/vc_column][/vc_row] \n
URL:https://fundacionjaviermarin.mx/encuentro/encuentro-con-ery-camara-tema-javier-marin-corpus/
CATEGORIES:Artista Plástico/Visual,Curador,Escultor,Gestor
ATTACH;FMTTYPE=image/jpeg:https://fundacionjaviermarin.mx/wp-content/uploads/2018/02/IMG_0866.jpg
ORGANIZER;CN="Fundaci%C3%B3n%20Javier%20Mar%C3%ADn":MAILTO:contacto@fundacionjaviermarin.mx
END:VEVENT
END:VCALENDAR