BEGIN:VCALENDAR
VERSION:2.0
PRODID:-//Fundación Javier Marín - ECPv4.9.7//NONSGML v1.0//EN
CALSCALE:GREGORIAN
METHOD:PUBLISH
X-WR-CALNAME:Fundación Javier Marín
X-ORIGINAL-URL:https://fundacionjaviermarin.mx
X-WR-CALDESC:Eventos para Fundación Javier Marín
BEGIN:VTIMEZONE
TZID:"UTC"
BEGIN:STANDARD
TZOFFSETFROM:+0000
TZOFFSETTO:+0000
TZNAME:UTC
DTSTART:20160101T000000
END:STANDARD
END:VTIMEZONE
BEGIN:VEVENT
DTSTART;TZID="UTC":20160426T120000
DTEND;TZID="UTC":20160426T140000
DTSTAMP:20260422T091433
CREATED:20180312T200513Z
LAST-MODIFIED:20180514T185949Z
UID:1877-1461672000-1461679200@fundacionjaviermarin.mx
SUMMARY:Encuentro con Esteban King. Tema: Exposición Post neo mexicanismos\, ESPAC (Espacio de Arte Contemporáneo)
DESCRIPTION:[vc_row css_animation=»» row_type=»row» use_row_as_full_screen_section=»no» type=»full_width» angled_section=»no» text_align=»left» background_image_as_pattern=»without_pattern» padding_top=»60″][vc_column][vc_column_text]Todos los proyectos que estamos formulando de una u otra manera cuestionan y reflexionan el presente\, atendiendo a una crisis en la forma de cómo se concibe el ser humano\, preguntando por la urgente necesidad de configurar nuevos paradigmas\, sin olvidar el origen ni el pasado. De lo íntimo a lo global y de lo material a lo insustancial nos determinan nuestros actos\, y todo ejercicio creativo que no tiene resonancia en el sentido común tiende a estar erróneamente fundamentado o fuera de realidad y enfoque. \nAsociación Civil sin fines de lucro dedicada a difundir\, fomentar y promover la producción artística. En ESPAC consideramos que el arte puede ser comprendido como una herramienta social para la construcción de conocimiento\, debido a que crea y permite una intersección de públicos diversos y como consecuencia\, añade nuevas piezas a contextos culturales. \nPlataforma que contempla dos ejes centrales:\n1) La conservación\, difusión y enriquecimiento de nuestra colección de arte.\n2) El apoyo a las artes a través de tres programas que involucren diferentes agentes culturales y cumplan con una función crítica para nuestra sociedad: Programa de Pintura Contemporánea\, Programa de Arte Emergente y Programa de Arte Audiovisual. \n  \nNuestra colección está compuesta por obras de múltiples artistas nacionales e internacionales que contribuyen a la formación de un acervo que da cuenta de una conciencia histórica en términos artísticos. Parte de nuestra misión es conservar\, asegurar\, difundir\, exhibir y garantizar el crecimiento de la colección\, por lo que seguimos buscando piezas que contribuyan a inscribir la colección en el panorama artístico nacional e internacional.[/vc_column_text][vc_separator type=»normal» down=»30″][vc_column_text][/vc_column_text][vc_empty_space height=»60px»][vc_separator type=»normal» down=»30″][vc_gallery type=»image_grid» images=»1878\,1879\,1880\,1881\,1882″ img_size=»medium» column_number=»5″ grayscale=»no» images_space=»gallery_with_space»][/vc_column][/vc_row] \n
URL:https://fundacionjaviermarin.mx/encuentro/encuentro-con-esteban-king-tema-exposicion-post-neo-mexicanismos-espac-espacio-de-arte-contemporaneo/
CATEGORIES:Artista Plástico/Visual
ORGANIZER;CN="Fundaci%C3%B3n%20Javier%20Mar%C3%ADn":MAILTO:contacto@fundacionjaviermarin.mx
END:VEVENT
END:VCALENDAR