BEGIN:VCALENDAR
VERSION:2.0
PRODID:-//Fundación Javier Marín - ECPv4.9.7//NONSGML v1.0//EN
CALSCALE:GREGORIAN
METHOD:PUBLISH
X-WR-CALNAME:Fundación Javier Marín
X-ORIGINAL-URL:https://fundacionjaviermarin.mx
X-WR-CALDESC:Eventos para Fundación Javier Marín
BEGIN:VTIMEZONE
TZID:"UTC"
BEGIN:STANDARD
TZOFFSETFROM:+0000
TZOFFSETTO:+0000
TZNAME:UTC
DTSTART:20160101T000000
END:STANDARD
END:VTIMEZONE
BEGIN:VEVENT
DTSTART;TZID="UTC":20161103T170000
DTEND;TZID="UTC":20161103T190000
DTSTAMP:20260426T043552
CREATED:20180528T161924Z
LAST-MODIFIED:20180528T161924Z
UID:2419-1478192400-1478199600@fundacionjaviermarin.mx
SUMMARY:Encuentro con Ivonne Pérez. Directora Fomento a Proyectos y Conversiones Culturales. FONCA
DESCRIPTION:[vc_row css_animation=»» row_type=»row» use_row_as_full_screen_section=»no» type=»full_width» angled_section=»no» text_align=»left» background_image_as_pattern=»without_pattern» padding_top=»60″][vc_column][vc_column_text][/vc_column_text][vc_separator type=»normal» down=»30″][vc_column_text]El Programa de Fomento a Proyectos y Conversiones Culturales de FONCA brinda apoyo en dos modalidades financieras -fomento y coinversión- a las iniciativas presentadas por creadores\, intérpretes\, investigadores\, promotores y educadores para la realización de proyectos integrales que contemplen una salida al público en un plazo máximo de 12 meses. \nComo un esquema de financiamiento a las artes\, la coinversión implica la participación de terceros a través de recursos o aportaciones -en efectivo o en especie-\, para llevar a cabo proyectos artísticos o culturales diversos. El monto máximo a solicitar en esta modalidad es de 400 mil pesos. En lo que se refiere a fomento\, se registran proyectos cuyos montos máximos solicitados sean de 250 mil pesos.[/vc_column_text][vc_empty_space height=»60px»][vc_separator type=»normal» down=»30″][vc_gallery type=»image_grid» images=»2430\,2420\,2424\,2421\,2425\,2426\,2423\,2427″ img_size=»medium» column_number=»5″ grayscale=»no» images_space=»gallery_with_space»][/vc_column][/vc_row] \n
URL:https://fundacionjaviermarin.mx/encuentro/encuentro-con-ivonne-perez-directora-fomento-a-proyectos-y-conversiones-culturales-fonca/
CATEGORIES:Artista Plástico/Visual
ATTACH;FMTTYPE=image/jpeg:https://fundacionjaviermarin.mx/wp-content/uploads/2018/05/IMG_1055.jpg
ORGANIZER;CN="Fundaci%C3%B3n%20Javier%20Mar%C3%ADn":MAILTO:contacto@fundacionjaviermarin.mx
END:VEVENT
END:VCALENDAR