BEGIN:VCALENDAR
VERSION:2.0
PRODID:-//Fundación Javier Marín - ECPv4.9.7//NONSGML v1.0//EN
CALSCALE:GREGORIAN
METHOD:PUBLISH
X-WR-CALNAME:Fundación Javier Marín
X-ORIGINAL-URL:https://fundacionjaviermarin.mx
X-WR-CALDESC:Eventos para Fundación Javier Marín
BEGIN:VTIMEZONE
TZID:"UTC"
BEGIN:STANDARD
TZOFFSETFROM:+0000
TZOFFSETTO:+0000
TZNAME:UTC
DTSTART:20160101T000000
END:STANDARD
END:VTIMEZONE
BEGIN:VEVENT
DTSTART;TZID="UTC":20160315T120000
DTEND;TZID="UTC":20160315T140000
DTSTAMP:20260421T030507
CREATED:20180212T193931Z
LAST-MODIFIED:20180522T181940Z
UID:1720-1458043200-1458050400@fundacionjaviermarin.mx
SUMMARY:Encuentro con Nina Menocal. Tema: Galería Menocal
DESCRIPTION:[vc_row css_animation=»» row_type=»row» use_row_as_full_screen_section=»no» type=»full_width» angled_section=»no» text_align=»left» background_image_as_pattern=»without_pattern» padding_top=»60″][vc_column][vc_column_text] \nDescripción\n[/vc_column_text][vc_separator type=»normal» down=»30″][vc_column_text]Nina Menocal\, galerista \nGalería Nina Menocal \nComprometida desde sus orígenes con artistas emergentes mexicanos\, cubanos y latinoamericanos y pionera en México en las principales ferias de arte internacional\, la galería nina menocal ha ayudado a consolidar el arte contemporáneo mexicano. \nEl arte contemporáneo en México debe mucho al prestigioso e incansable trabajo de la galería nina menocal. Fundada en 1990 bajo el nombre de Ninart\, en un pequeño apartamento ubicado en la “Zona Rosa”\, fue el primer espacio en exhibir el trabajo de artistas cubanos contemporáneos en la Ciudad de México y posteriormente de artistas emergentes mexicanos\, de América Latina y de todas las nacionalidades. Igualmente fue una de las galerías mexicanas precursoras en participar en ferias de arte internacional. \nEn ese sentido su fundadora\, Nina Menocal\, ha representado una fuerza decisiva para construir las bases del arte contemporáneo en México e incrementar su interés y estudio a través de la promoción y difusión del trabajo de competentes y  talentosos jóvenes artistas latinoamericanos y de otros lados del mundo. Menocal\,  ha impartido conferencias y/o realizado proyectos curatoriales en museos e instituciones como el CCS Center for Curatorial Studies Bard Museum\, NY; The Rockeffeler Brothers Fund\, NY; Museo del Barrio\, NY; Frost Art Museum y FIU\, Florida International University\, Miami\, FL; MOOLA\, Museum of Latin American Art\, Los Angeles\, CA; Center for the Fine Arts\, Colorado Springs\, CA; Sheldon Museum of Art\, Lincoln\, NE; EACC\, Espai d’ Art Contemporani de Castelló\, Castellón de la Plana\, España; El Ojo Atómico\, Madrid\, España\, Embajada de México en Alemania\, Berlin y MACG\, Museo de Arte Carrillo Gil\, y Border\, Centro Cultural\, México\, D.F. \n[/vc_column_text][vc_empty_space height=»60px»][vc_separator type=»normal» down=»30″][/vc_column][/vc_row] \n
URL:https://fundacionjaviermarin.mx/encuentro/encuentro-con-nina-menocal-tema-galeria-menocal/
CATEGORIES:Galerista
ORGANIZER;CN="Fundaci%C3%B3n%20Javier%20Mar%C3%ADn":MAILTO:contacto@fundacionjaviermarin.mx
END:VEVENT
END:VCALENDAR