BEGIN:VCALENDAR
VERSION:2.0
PRODID:-//Fundación Javier Marín - ECPv4.9.7//NONSGML v1.0//EN
CALSCALE:GREGORIAN
METHOD:PUBLISH
X-WR-CALNAME:Fundación Javier Marín
X-ORIGINAL-URL:https://fundacionjaviermarin.mx
X-WR-CALDESC:Eventos para Fundación Javier Marín
BEGIN:VTIMEZONE
TZID:"UTC"
BEGIN:STANDARD
TZOFFSETFROM:+0000
TZOFFSETTO:+0000
TZNAME:UTC
DTSTART:20160101T000000
END:STANDARD
END:VTIMEZONE
BEGIN:VEVENT
DTSTART;TZID="UTC":20160927T160000
DTEND;TZID="UTC":20160927T180000
DTSTAMP:20260425T104102
CREATED:20180524T182618Z
LAST-MODIFIED:20180524T182618Z
UID:2216-1474992000-1474999200@fundacionjaviermarin.mx
SUMMARY:Encuentro con Pablo Boneu. Exposición “Individuos\, multitudes y otras ilusiones”
DESCRIPTION:[vc_row css_animation=»» row_type=»row» use_row_as_full_screen_section=»no» type=»full_width» angled_section=»no» text_align=»left» background_image_as_pattern=»without_pattern» padding_top=»60″][vc_column][vc_column_text][/vc_column_text][vc_separator type=»normal» down=»30″][vc_column_text]No es fácil separar la obra de Pablo Boneu -1969- de su propia vida. En un artista que utiliza distintos soportes y medios expresivos\, no se limita a exponer su obra acabada\, sino que él mismo se dedica a ponerla en cuestión constantemente. Sin embargo\, a diferencia de la mayoría de los artistas actuales\, su interés por el proceso de creación\, como experiencia vital\, se une íntimamente a la obsesión por presentar obras terminadas\, coherentes en su realización. \nLas obras que serán exhibidas en la muestra parten de una reflexión sobre la noción de individuo y la exaltada consideración que tenemos sobre la percepción que esta nos produce\, exploración que el artista ha trasladado al ámbito visual. La ilusión que logra el trabajo fotográfico de Pablo Boneu se presta como testimonio de la incapacidad humana para acceder o producir una verdad única\, así\, la condición quebrantada de la obra nos permite poner también en perspectiva esta situación. \nPablo Boneu produce una serie de piezas dentro de Terreno Baldío Arte\, con la finalidad de establecer una misteriosa cercanía con su campo de acción. El artista concretizará dentro de la galería formatos diversos que derivan de procesos cuasi-artesanales\, formados por millones de hilos o diferentes e inesperados materiales en los que experimenta en distintos soportes de impresión\, imágenes que yuxtapone unas con otras\, y que\, finalmente interviene a partir de distintos gestos como pueden ser desgarres y cortes. “Así se entrevé lo oculto\, lo que creemos ver\, lo que no existe”\, tal como el mismo autor lo describe.[/vc_column_text][vc_empty_space height=»60px»][vc_separator type=»normal» down=»30″][vc_gallery type=»image_grid» images=»2361\,2362\,2357\,2360\,2356\,2358″ img_size=»medium» column_number=»5″ grayscale=»no» images_space=»gallery_with_space»][/vc_column][/vc_row] \n
URL:https://fundacionjaviermarin.mx/encuentro/encuentro-con-pablo-boneu-exposicion-individuos-multitudes-y-otras-ilusiones/
CATEGORIES:Artista Plástico/Visual
ATTACH;FMTTYPE=image/jpeg:https://fundacionjaviermarin.mx/wp-content/uploads/2018/05/DSC03421.jpg
ORGANIZER;CN="Fundaci%C3%B3n%20Javier%20Mar%C3%ADn":MAILTO:contacto@fundacionjaviermarin.mx
END:VEVENT
END:VCALENDAR