BEGIN:VCALENDAR
VERSION:2.0
PRODID:-//Fundación Javier Marín - ECPv4.9.7//NONSGML v1.0//EN
CALSCALE:GREGORIAN
METHOD:PUBLISH
X-WR-CALNAME:Fundación Javier Marín
X-ORIGINAL-URL:https://fundacionjaviermarin.mx
X-WR-CALDESC:Eventos para Fundación Javier Marín
BEGIN:VTIMEZONE
TZID:"UTC"
BEGIN:STANDARD
TZOFFSETFROM:+0000
TZOFFSETTO:+0000
TZNAME:UTC
DTSTART:20160101T000000
END:STANDARD
END:VTIMEZONE
BEGIN:VEVENT
DTSTART;TZID="UTC":20161020T120000
DTEND;TZID="UTC":20161020T140000
DTSTAMP:20260425T232036
CREATED:20180528T153822Z
LAST-MODIFIED:20180528T153822Z
UID:2230-1476964800-1476972000@fundacionjaviermarin.mx
SUMMARY:Encuentro con Tania Aedo. Laboratorio de Arte Alameda. Exposición entre límites. Instalaciones sonoras
DESCRIPTION:[vc_row css_animation=»» row_type=»row» use_row_as_full_screen_section=»no» type=»full_width» angled_section=»no» text_align=»left» background_image_as_pattern=»without_pattern» padding_top=»60″][vc_column][vc_column_text][/vc_column_text][vc_separator type=»normal» down=»30″][vc_column_text]La exposición colectiva “entre límites” presenta once instalaciones sonoras inéditas de artistas alemanes y mexicanos en Ex teresa arte Actual y Laboratorio Arte Alameda. El género del arte sonoro ha experimentado un enorme desarrollo durante los últimos años en ambos países. \nLos artistas participantes son representantes de varias generaciones con enfoques diversos hacia el género artístico. \nEl LAA es un espacio del INBA dedicado a la exhibición\, documentación\, producción e investigación de las prácticas artísticas que utilizan y ponen en diálogo la relación arte\, ciencia y tecnología. \n  \nTania Aedo \nRealizó estudios en Artes visuales en la Escuela Nacional de Artes Plásticas de la U.N.A.M\, institución que le otorgó el Reconocimiento a la creación artística. Ha participado en exposiciones tanto en México como en el extranjero. Desde hace más de diez años ha trabajado en diversos proyectos utilizando tecnología digital. Ha recibido reconocimientos como la beca de la Fundación Rockefeller – Ford – Mc Arthur\, dentro del programa de Cine\, Video y Multimedia el Premio de Adquisición\, Encuentro Nacional de Arte Joven. \nHa sido becaria del FONCA en el área de Jóvenes Creadores\, así como en el programa de Apoyo a Proyectos y Coinversiones Culturales; en 1998 realizó una residencia en el Banff Centre for The Arts en Canadá; dirigió el Centro Multimedia del Centro Nacional de las Artes y actualmente es Directora del Laboratorio Arte Alameda y miembro del comité editorial de Curare.[/vc_column_text][vc_empty_space height=»60px»][vc_separator type=»normal» down=»30″][vc_gallery type=»image_grid» images=»2398\,2399\,2400\,2401″ img_size=»medium» column_number=»5″ grayscale=»no» images_space=»gallery_with_space»][/vc_column][/vc_row] \n
URL:https://fundacionjaviermarin.mx/encuentro/encuentro-con-tania-aedo-laboratorio-de-arte-alameda-exposicion-entre-limites-instalaciones-sonoras/
CATEGORIES:Artista Plástico/Visual
ATTACH;FMTTYPE=image/jpeg:https://fundacionjaviermarin.mx/wp-content/uploads/2018/05/DSC0166.jpg
ORGANIZER;CN="Fundaci%C3%B3n%20Javier%20Mar%C3%ADn":MAILTO:contacto@fundacionjaviermarin.mx
END:VEVENT
END:VCALENDAR