BEGIN:VCALENDAR
VERSION:2.0
PRODID:-//Fundación Javier Marín - ECPv4.9.7//NONSGML v1.0//EN
CALSCALE:GREGORIAN
METHOD:PUBLISH
X-WR-CALNAME:Fundación Javier Marín
X-ORIGINAL-URL:https://fundacionjaviermarin.mx
X-WR-CALDESC:Eventos para Fundación Javier Marín
BEGIN:VTIMEZONE
TZID:"UTC"
BEGIN:STANDARD
TZOFFSETFROM:+0000
TZOFFSETTO:+0000
TZNAME:UTC
DTSTART:20160101T000000
END:STANDARD
END:VTIMEZONE
BEGIN:VEVENT
DTSTART;TZID="UTC":20160902T180000
DTEND;TZID="UTC":20160902T200000
DTSTAMP:20260425T001840
CREATED:20180524T172816Z
LAST-MODIFIED:20180524T172816Z
UID:2191-1472839200-1472846400@fundacionjaviermarin.mx
SUMMARY:Encuentro con Victor Noxpango
DESCRIPTION:[vc_row css_animation=»» row_type=»row» use_row_as_full_screen_section=»no» type=»full_width» angled_section=»no» text_align=»left» background_image_as_pattern=»without_pattern» padding_top=»60″][vc_column][vc_column_text]Victor Noxpango artista visual\, museólogo y crítico de arte. \nA lo largo de su carrera ha creado obras que maquinan la relación entre el arte y las estructuras que lo enmarcan. Su trabajo toma como punto de partida los referentes históricos del arte\, cómo se presenta y\, en términos específicos\, la relación del entorno físico y social en el que un artista trabaja. La obra que presenta\, emplea estrategias conceptuales que abordan la idea del tiempo y maneras de articular la idea en el espacio como forma significativa. \n  \nLa exposición es la presentación de una serie de 31 herramientas visuales que refieren a dos estilos específicos; la pintura monocromática y el mínimal. La idea articula una forma de calendario mensual como referencia directa al periodo que dura la muestra\, creando una instalación de carácter escultórico.[/vc_column_text][vc_separator type=»normal» down=»30″][vc_column_text][/vc_column_text][vc_empty_space height=»60px»][vc_separator type=»normal» down=»30″][vc_gallery type=»image_grid» images=»2320\,2322\,2323″ img_size=»medium» column_number=»5″ grayscale=»no» images_space=»gallery_with_space»][/vc_column][/vc_row] \n
URL:https://fundacionjaviermarin.mx/encuentro/encuentro-con-victor-noxpango/
CATEGORIES:Artista Plástico/Visual
ATTACH;FMTTYPE=image/png:https://fundacionjaviermarin.mx/wp-content/uploads/2018/05/VictorNoxpango.png
ORGANIZER;CN="Fundaci%C3%B3n%20Javier%20Mar%C3%ADn":MAILTO:contacto@fundacionjaviermarin.mx
END:VEVENT
END:VCALENDAR