BEGIN:VCALENDAR
VERSION:2.0
PRODID:-//Fundación Javier Marín - ECPv4.9.7//NONSGML v1.0//EN
CALSCALE:GREGORIAN
METHOD:PUBLISH
X-WR-CALNAME:Fundación Javier Marín
X-ORIGINAL-URL:https://fundacionjaviermarin.mx
X-WR-CALDESC:Eventos para Fundación Javier Marín
BEGIN:VTIMEZONE
TZID:"UTC"
BEGIN:STANDARD
TZOFFSETFROM:+0000
TZOFFSETTO:+0000
TZNAME:UTC
DTSTART:20160101T000000
END:STANDARD
END:VTIMEZONE
BEGIN:VEVENT
DTSTART;TZID="UTC":20161013T120000
DTEND;TZID="UTC":20161013T150000
DTSTAMP:20260425T193428
CREATED:20180524T185406Z
LAST-MODIFIED:20180524T185406Z
UID:2226-1476360000-1476370800@fundacionjaviermarin.mx
SUMMARY:Encuentro en Sala de Arte Público Siqueiros
DESCRIPTION:[vc_row css_animation=»» row_type=»row» use_row_as_full_screen_section=»no» type=»full_width» angled_section=»no» text_align=»left» background_image_as_pattern=»without_pattern» padding_top=»60″][vc_column][vc_column_text][/vc_column_text][vc_separator type=»normal» down=»30″][vc_column_text]La Sala de Arte Público\, respondiendo a su vocación de puente entre la modernidad y el arte actual\, pretende centrar su atención en la investigación de la obra del muralista mexicano a través de tres acciones puntuales: la restauración de los murales que se encuentran en nuestra sala y corresponden a su último período de trabajo\, la digitalización del archivo documental bajo nuestra custodia\, y la posible búsqueda de discursos actuales que puedan problematizar conceptos paradigmáticos en relación al pensamiento de David Alfaro Siqueiros. \nComplejizar prácticas y estrategias artísticas contemporáneas afines a la dimensión pública del arte\, su carácter social y la inmersión en lo político\, así como el constante desafío ante las estructuras mediáticas\, serán los ejes discursivos que abarcaremos en los próximos años de trabajo. Así\, la producción artística transgresora y la generación de debates y foros afines a la alteridad discursiva\, permitirán reforzar el perfil institucional de esta sala de arte. \nLa SAPS\, ubicada en Polanco y La Tallera Casa Estudio en Cuernavaca\, fueron legados mediante testamento público por David Alfaro Siqueiros (1896-1974) al “pueblo de México”\, junto con una importante colección de obra de caballete\, gráfica\, dibujo\, estudios y proyectos murales\, así como su archivo personal y biblioteca. \n  \nEl 12 de diciembre de 1973\, 25 días antes de morir\, expresó su deseo de que en éstos espacios se preservaran y difundieran sus obras e ideas; que fueran centros de análisis y de experimentación para el “arte público” del porvenir. \n  \nHoy en día\, la Sala de Arte Público Siqueiros es un museo\, un centro de consulta e investigación\, pero también es la sede de innumerables conferencias y mesas de discusión sobre arte contemporáneo. La SAPS ha abierto su espacio al arte contemporáneo para dar continuidad a las inquietudes técnicas y temáticas del muralista.[/vc_column_text][vc_empty_space height=»60px»][vc_separator type=»normal» down=»30″][vc_gallery type=»image_grid» images=»2388\,2389″ img_size=»medium» column_number=»5″ grayscale=»no» images_space=»gallery_with_space»][/vc_column][/vc_row] \n
URL:https://fundacionjaviermarin.mx/encuentro/encuentro-en-sala-de-arte-publico-siqueiros/
CATEGORIES:Artista Plástico/Visual
ATTACH;FMTTYPE=image/png:https://fundacionjaviermarin.mx/wp-content/uploads/2018/05/siqueiros.png
ORGANIZER;CN="Fundaci%C3%B3n%20Javier%20Mar%C3%ADn":MAILTO:contacto@fundacionjaviermarin.mx
END:VEVENT
END:VCALENDAR