BEGIN:VCALENDAR
VERSION:2.0
PRODID:-//Fundación Javier Marín - ECPv4.9.7//NONSGML v1.0//EN
CALSCALE:GREGORIAN
METHOD:PUBLISH
X-WR-CALNAME:Fundación Javier Marín
X-ORIGINAL-URL:https://fundacionjaviermarin.mx
X-WR-CALDESC:Eventos para Fundación Javier Marín
BEGIN:VTIMEZONE
TZID:"UTC"
BEGIN:STANDARD
TZOFFSETFROM:+0000
TZOFFSETTO:+0000
TZNAME:UTC
DTSTART:20160101T000000
END:STANDARD
END:VTIMEZONE
BEGIN:VEVENT
DTSTART;TZID="UTC":20160901T130000
DTEND;TZID="UTC":20160901T150000
DTSTAMP:20260424T225631
CREATED:20180524T155511Z
LAST-MODIFIED:20180524T155511Z
UID:2189-1472734800-1472742000@fundacionjaviermarin.mx
SUMMARY:Encuentro. ESPAC Neomexicanismos Fase 2
DESCRIPTION:[vc_row css_animation=»» row_type=»row» use_row_as_full_screen_section=»no» type=»full_width» angled_section=»no» text_align=»left» background_image_as_pattern=»without_pattern» padding_top=»60″][vc_column][vc_column_text]La segunda fase de POST NEO MEXICANISMOS fue curada por Willy Kautz y se presenta del 16 de julio al 25 de septiembre de 2016. La muestra forma parte del Programa de Pintura Contemporánea de ESPAC. \nLa exposición Post Neo Mexicanismos consiste en una selección de obras de la Colección ESPAC a la que se suman las nuevas adquisiciones de su Programa de Pintura Contemporánea. Si bien la narrativa que propone el título es un claro indicativo historiográfico que nos sitúa después del llamado neomexicanismo\, esta propuesta museográfica dividida en dos fases elude la organización cronológica de las obras. Esta etapa entendida como la posmodernidad mexicana\, dio cabida a la configuración de una multiplicidad de apuestas iconográficas\, paródicas y críticas\, que trastocaban los imaginarios oficiales al grado de que algunos historiadores definieran a estas actitudes o procedimientos como desnacionalizadores. Al situarse al borde de dicho capítulo de la historia del arte local\, este programa tiene el objetivo de revisar la relación entre la pintura en México y el advenimiento de las vertientes conceptualistas durante la década los noventa. Para ello Post Neo Mexicanismos ha generado dos exposiciones\, diversas entrevistas y visitas de estudio\, así como conversaciones a puertas cerradas y públicas con los artistas participantes. La última fase de esta propuesta de revisión de la pintura en los noventa consistirá en una publicación. En términos generales\, el título Post Neo Mexicanismos\, invita a reflexionar sobre la pintura en México después de su desnacionalización. \n  \nArtistas: \nMarco Arce\, Carlos Arias\, Fernanda Brunet\, Francisco “Taka“ Fernández\, Fernando García Correa\, Néstor Quiñones\, José Luis Sánchez Rull\, Melanie Smith\, Sofía Táboas\, Roberto Turnbull y Boris Viskin.[/vc_column_text][vc_separator type=»normal» down=»30″][vc_column_text][/vc_column_text][vc_empty_space height=»60px»][vc_separator type=»normal» down=»30″][vc_gallery type=»image_grid» images=»2311\,2309\,2312\,2310\,2313″ img_size=»medium» column_number=»5″ grayscale=»no» images_space=»gallery_with_space»][/vc_column][/vc_row] \n
URL:https://fundacionjaviermarin.mx/encuentro/encuentro-espac-neomexicanismos-fase-2/
CATEGORIES:Artista Plástico/Visual
ATTACH;FMTTYPE=image/png:https://fundacionjaviermarin.mx/wp-content/uploads/2018/05/ESPACneomexicanismos.png
ORGANIZER;CN="Fundaci%C3%B3n%20Javier%20Mar%C3%ADn":MAILTO:contacto@fundacionjaviermarin.mx
END:VEVENT
END:VCALENDAR