BEGIN:VCALENDAR
VERSION:2.0
PRODID:-//Fundación Javier Marín - ECPv4.9.7//NONSGML v1.0//EN
CALSCALE:GREGORIAN
METHOD:PUBLISH
X-WR-CALNAME:Fundación Javier Marín
X-ORIGINAL-URL:https://fundacionjaviermarin.mx
X-WR-CALDESC:Eventos para Fundación Javier Marín
BEGIN:VTIMEZONE
TZID:"UTC"
BEGIN:STANDARD
TZOFFSETFROM:+0000
TZOFFSETTO:+0000
TZNAME:UTC
DTSTART:20160101T000000
END:STANDARD
END:VTIMEZONE
BEGIN:VEVENT
DTSTART;TZID="UTC":20160505T150000
DTEND;TZID="UTC":20160505T180000
DTSTAMP:20260422T142039
CREATED:20180508T160525Z
LAST-MODIFIED:20180514T185703Z
UID:1909-1462460400-1462471200@fundacionjaviermarin.mx
SUMMARY:Encuentro. Exposición El orden natural de las cosas. Museo Jumex
DESCRIPTION:[vc_row css_animation=»» row_type=»row» use_row_as_full_screen_section=»no» type=»full_width» angled_section=»no» text_align=»left» background_image_as_pattern=»without_pattern» padding_top=»60″][vc_column][vc_column_text]En el gran desplazamiento de la episteme occidental: se descubrió una historicidad propia de la naturaleza; se llegó a definir aun\, para cada gran tipo de ser viviente\, formas de adaptación al medio que permitirían definir en consecuencia su perfil evolutivo; además se pudo demostrar que actividades tan singularmente humanas como el trabajo o el lenguaje detentaban\, en sí mismas\, una historicidad que no podía encontrar su lugar en el gran relato común de las cosas y de los hombres: la producción tiene modos de desarrollo\, el capital modos de acumulación\, el precio leyes de oscilación y cambios que no pueden ni rebajarse a las leyes naturales ni reducirse a la marcha general de la humanidad.[/vc_column_text][vc_separator type=»normal» down=»30″][vc_column_text][/vc_column_text][vc_empty_space height=»60px»][vc_separator type=»normal» down=»30″][vc_gallery type=»image_grid» images=»1995\,1996\,1997\,1998″ img_size=»medium» column_number=»5″ grayscale=»no» images_space=»gallery_with_space»][/vc_column][/vc_row] \n
URL:https://fundacionjaviermarin.mx/encuentro/encuentro-exposicion-el-orden-natural-de-las-cosas-museo-jumex/
CATEGORIES:Artista Plástico/Visual
ATTACH;FMTTYPE=image/png:https://fundacionjaviermarin.mx/wp-content/uploads/2018/05/Orden-natural-de-las-cosas.png
ORGANIZER;CN="Fundaci%C3%B3n%20Javier%20Mar%C3%ADn":MAILTO:contacto@fundacionjaviermarin.mx
END:VEVENT
END:VCALENDAR