BEGIN:VCALENDAR
VERSION:2.0
PRODID:-//Fundación Javier Marín - ECPv4.9.7//NONSGML v1.0//EN
CALSCALE:GREGORIAN
METHOD:PUBLISH
X-WR-CALNAME:Fundación Javier Marín
X-ORIGINAL-URL:https://fundacionjaviermarin.mx
X-WR-CALDESC:Eventos para Fundación Javier Marín
BEGIN:VTIMEZONE
TZID:"UTC"
BEGIN:STANDARD
TZOFFSETFROM:+0000
TZOFFSETTO:+0000
TZNAME:UTC
DTSTART:20160101T000000
END:STANDARD
END:VTIMEZONE
BEGIN:VEVENT
DTSTART;TZID="UTC":20161001T130000
DTEND;TZID="UTC":20161001T150000
DTSTAMP:20260425T121816
CREATED:20180524T183134Z
LAST-MODIFIED:20220817T213417Z
UID:2218-1475326800-1475334000@fundacionjaviermarin.mx
SUMMARY:Encuentro temático: Prácticas artísticas colaborativas. Carolina Alba On-Off
DESCRIPTION:[vc_row css_animation=»» row_type=»row» use_row_as_full_screen_section=»no» type=»full_width» angled_section=»no» text_align=»left» background_image_as_pattern=»without_pattern» padding_top=»60″][vc_column][vc_column_text][/vc_column_text][vc_separator type=»normal» down=»30″][vc_column_text]On/Off Collaboration es un grupo de trabajo que explora diferentes mecanismos de colaboración artística\, así como el impacto de las tecnologías digitales en la manera de comunicarse\, compartir conocimiento y producir. En esta exposición Juan Toro\, de Colombia\, trabaja el dibujo como función operatoria\, reflexionando sobre la filosofía cosmista al confrontar el ideal de «hombre-máquina» y el «posthumanismo» en la gestión planetaria. Carolina Alba propone un proyecto editorial que compila conversaciones sobre dinámicas on/off en un diálogo en proceso que se extiende al espacio expositivo; además indaga en aspectos ocultos o negativos de las interacciones grupales. Alejandro Orozco presenta una instalación que opera con los conceptos de juego\, postura individual y espacio compartido;un juego colectivo donde la idea de lo común queda incierta. Jimena Mendizábal plantea un mapeo intuitivo de la circulación de información y conocimiento dentro del grupo\, revelando un ritmo y una topología particulares del colectivo. Mirjam Kroker\, artista alemana\, toma los procesos de pensamiento\, escritura y diálogo del grupo como materia prima para practicar una estética del discurso y cuestionar ideas de materialidad\, medialidad\, pensamiento colectivo y el futuro del conocimiento.[/vc_column_text][vc_empty_space height=»60px»][vc_separator type=»normal» down=»30″][/vc_column][/vc_row] \n
URL:https://fundacionjaviermarin.mx/encuentro/encuentro-tematico-practicas-artisticas-colaborativas-carolina-alba-on-off/
CATEGORIES:Artista Plástico/Visual
ATTACH;FMTTYPE=image/png:https://fundacionjaviermarin.mx/wp-content/uploads/2018/05/CarolinaAlba.png
ORGANIZER;CN="Fundaci%C3%B3n%20Javier%20Mar%C3%ADn":MAILTO:contacto@fundacionjaviermarin.mx
END:VEVENT
END:VCALENDAR