BEGIN:VCALENDAR
VERSION:2.0
PRODID:-//Fundación Javier Marín - ECPv4.9.7//NONSGML v1.0//EN
CALSCALE:GREGORIAN
METHOD:PUBLISH
X-WR-CALNAME:Fundación Javier Marín
X-ORIGINAL-URL:https://fundacionjaviermarin.mx
X-WR-CALDESC:Eventos para Fundación Javier Marín
BEGIN:VTIMEZONE
TZID:"UTC"
BEGIN:STANDARD
TZOFFSETFROM:+0000
TZOFFSETTO:+0000
TZNAME:UTC
DTSTART:20160101T000000
END:STANDARD
END:VTIMEZONE
BEGIN:VEVENT
DTSTART;TZID="UTC":20161007T120000
DTEND;TZID="UTC":20161007T140000
DTSTAMP:20260425T175314
CREATED:20180524T185136Z
LAST-MODIFIED:20180524T185136Z
UID:2224-1475841600-1475848800@fundacionjaviermarin.mx
SUMMARY:Encuentro temático: Prácticas artísticas colaborativas. Mónica Castillo
DESCRIPTION:[vc_row css_animation=»» row_type=»row» use_row_as_full_screen_section=»no» type=»full_width» angled_section=»no» text_align=»left» background_image_as_pattern=»without_pattern» padding_top=»60″][vc_column][vc_column_text][/vc_column_text][vc_separator type=»normal» down=»30″][vc_column_text]Mónica Castillo\, artista que ha incidido en varias disciplinas de las artes visuales\, así como en la educación\, la participación\, la gestión y administración de instituciones artísticas. Fue fundadora y directora de la licenciatura de artes visuales en la Escuela Superior de Artes de Yucatán (ESAY) en Mérida\, Yucatán. En 2011\, fue nominada para el Premio Nacional de Ciencias y Artes por parte del Instituto Nacional de las Mujeres (INMUJERES) en México. \nDe 1979 a 1985\, estudió pintura en la Academia Estatal de Artes Plásticas de Stuttgart\, Alemania. De 2007-2010\, estudió la maestría en el Instituto “Art in context”\, con especialización en “Arte para grupos específicos” de la Universidad de las Artes en Berlín\, Alemania. \nSu trayectoria como artista se ha centrado en problemas de representación y de la imagen\, abordados a través de narrativas biográficas (la emancipación de la educación cultural de género\, de raza\, de clase social y política) y tomando como temas la comida y el autorretrato como “representación de lo mismo”. \nDesde 2010 hasta la fecha\, se dedica a la organización de situaciones de aprendizaje y creación colectivas en contextos específicos. \nDesde el año 2014\, participa junto con los artistas Jaime Ruiz Martínez y Alex White Mazzarella en Lugar Común-Nueva patria AC\, iniciativa vecinal auto organizada que hace cultura desde la colonia suburbana de Patria Nueva\, municipio de Pueblo Nuevo en Oaxaca de Juárez. \nDesde el 1996 hasta la fecha\, ha dado clases intermitentemente en la ENPEG\, “La Esmeralda”. De 2011 a 2014\, coordinó las Clínicas de Especialización en Arte Contemporáneo de “La Curtiduría” en Oaxaca\, México.[/vc_column_text][vc_empty_space height=»60px»][vc_separator type=»normal» down=»30″][vc_gallery type=»image_grid» images=»2382\,2383\,2384\,2385\,2386″ img_size=»medium» column_number=»5″ grayscale=»no» images_space=»gallery_with_space»][/vc_column][/vc_row] \n
URL:https://fundacionjaviermarin.mx/encuentro/encuentro-tematico-practicas-artisticas-colaborativas-monica-castillo/
CATEGORIES:Artista Plástico/Visual
ATTACH;FMTTYPE=image/jpeg:https://fundacionjaviermarin.mx/wp-content/uploads/2018/05/DSC03563.jpg
ORGANIZER;CN="Fundaci%C3%B3n%20Javier%20Mar%C3%ADn":MAILTO:contacto@fundacionjaviermarin.mx
END:VEVENT
END:VCALENDAR