BEGIN:VCALENDAR
VERSION:2.0
PRODID:-//Fundación Javier Marín - ECPv4.9.7//NONSGML v1.0//EN
CALSCALE:GREGORIAN
METHOD:PUBLISH
X-WR-CALNAME:Fundación Javier Marín
X-ORIGINAL-URL:https://fundacionjaviermarin.mx
X-WR-CALDESC:Eventos para Fundación Javier Marín
BEGIN:VTIMEZONE
TZID:"UTC"
BEGIN:STANDARD
TZOFFSETFROM:+0000
TZOFFSETTO:+0000
TZNAME:UTC
DTSTART:20180101T000000
END:STANDARD
END:VTIMEZONE
BEGIN:VEVENT
DTSTART;TZID="UTC":20180516T010000
DTEND;TZID="UTC":20180526T000000
DTSTAMP:20260425T002520
CREATED:20180517T185115Z
LAST-MODIFIED:20180517T185354Z
UID:2161-1526432400-1527292800@fundacionjaviermarin.mx
SUMMARY:Encuentros II. CONVOCATORIA DE BECA para el seminario: Construcción de portafolio y autopromoción. Imparte: Catalina Restrepo Leongómez
DESCRIPTION:[vc_row css_animation=»» row_type=»row» use_row_as_full_screen_section=»no» type=»full_width» angled_section=»no» text_align=»left» background_image_as_pattern=»without_pattern» padding_top=»60″][vc_column][vc_column_text]Aplicación para beca del Seminario\nCONSTRUCCIÓN DE PORTAFOLIO Y AUTOPROMOCIÓN \nImparte Catalina Restrepo Leongómez\nAutora del libro: Portafolio de artista\, una herramienta clave para la promoción exitosa\, de la Colección Puntal. \n  \nRecepción de solicitudes: 16 al 26 de mayo del 2018 (de 1:00 am a 12:00 am) \nPublicación de resultados: 28 de mayo del 2018 \nLos resultados serán anunciados públicamente en las redes sociales de la Fundación \nDuración: 3 sesiones de 4 horas \nEn la Fundación Javier Marín (Orizaba #190 col. Roma\, CDMX) \nFechas del seminario: 30\, 31 de mayo y 1ro. de junio del 2018 \n  \nEl objetivo de este seminario es que el artista concluya con el portafolio perfectamente armado y con una noción amplia de las posibilidades\, oportunidades\, estrategias y protocolos que existen para sacar el mayor provecho de esta herramienta. \n  \nEl portafolio es una herramienta fundamental que tiene el artista para comunicar y autopromover su obra\, pues le permite mostrar la calidad conceptual y técnica de su producción. Aunque la construcción de éste sea un proceso muy personal\, casi siempre se necesita de una opinión externa para identificar lo que se entiende y lo que no\, así como lo que puede perjudicar o ayudar al momento de presentar su trabajo. \n  \n  \nCatalina Restrepo Leongómez nació en Bogotá\, Colombia el año de 1982. Se graduó de la Escuela de Artes Visuales de la Universidad Javeriana en la misma ciudad en 2007. Autora del libro Portafolio de Artista\, una herramienta clave para una promoción exitosa de la colección PUNTAL editado por la Fundación Javier Marín. En 2010\, creó LARMAGAZINE¨ una revista de arte contemporáneo interactiva y bilingüe en formato app\, misma que ha sido presentada en foros tan importantes como ArtBasel\, ARCOmadrid\, Zona MACO\, ARTBO y arteBA\, por nombrar algunos. Fundadora de LARSCHOOL en 2015\, un espacio educativo desarrollado para la integración y promoción de la comunidad artística local de Monterrey. \nEn 2014 dirigió el programa FOCUS para a la profesionalización y vinculación de artistas destacados\, de CONARTE y el mismo año fue invitada al programa Young Curators Workshop de la 8th Berlin Biennale. Catalina ha realizado curadurías en diferentes espacios en Bogotá\, Ciudad de México y Monterrey; también ha impartido cursos en el Museo Amparo de Puebla\, Museo MARCO de Monterrey\, Casa Vecina\, Escuela Adolfo Prieto de CONARTE entre otros y fue por 4 años maestra en la carrera de Fotografía en el LCI Monterrey.[/vc_column_text][vc_separator type=»normal» down=»30″][vc_empty_space height=»60px»][vc_separator type=»normal» down=»30″][/vc_column][/vc_row][vc_row css_animation=»» row_type=»row» use_row_as_full_screen_section=»no» type=»full_width» angled_section=»no» text_align=»left» background_image_as_pattern=»without_pattern»][vc_column][/vc_column][/vc_row] \n
URL:https://fundacionjaviermarin.mx/encuentro/encuentros-ii-convocatoria-de-beca-para-el-seminario-construccion-de-portafolio-y-autopromocion-imparte-catalina-restrepo-leongomez/
CATEGORIES:Artista Plástico/Visual,Gestor,Multidisciplina
ATTACH;FMTTYPE=image/png:https://fundacionjaviermarin.mx/wp-content/uploads/2018/05/CatalinaRestrepo.png
ORGANIZER;CN="Fundaci%C3%B3n%20Javier%20Mar%C3%ADn":MAILTO:contacto@fundacionjaviermarin.mx
END:VEVENT
END:VCALENDAR