BEGIN:VCALENDAR
VERSION:2.0
PRODID:-//Fundación Javier Marín - ECPv4.9.7//NONSGML v1.0//EN
CALSCALE:GREGORIAN
METHOD:PUBLISH
X-WR-CALNAME:Fundación Javier Marín
X-ORIGINAL-URL:https://fundacionjaviermarin.mx
X-WR-CALDESC:Eventos para Fundación Javier Marín
BEGIN:VTIMEZONE
TZID:"UTC"
BEGIN:STANDARD
TZOFFSETFROM:+0000
TZOFFSETTO:+0000
TZNAME:UTC
DTSTART:20180101T000000
END:STANDARD
END:VTIMEZONE
BEGIN:VEVENT
DTSTART;TZID="UTC":20180419T160000
DTEND;TZID="UTC":20180419T170000
DTSTAMP:20260425T020329
CREATED:20180412T163324Z
LAST-MODIFIED:20180514T160910Z
UID:1922-1524153600-1524157200@fundacionjaviermarin.mx
SUMMARY:Encuentros II. Encuentro con EFIARTES VISUALES. Charla informativa
DESCRIPTION:[vc_row css_animation=»» row_type=»row» use_row_as_full_screen_section=»no» type=»full_width» angled_section=»no» text_align=»left» background_image_as_pattern=»without_pattern» padding_top=»60″][vc_column][vc_column_text] \nDescripción\n[/vc_column_text][vc_separator type=»normal» down=»30″][vc_column_text]Encuentros II. \nEncuentro con EFIARTES VISUALES. Charla informativa \n  \nJueves 19 de abril a las 4:00 pm \nEn la Fundación Javier Marín (Orizaba #190 col. Roma) \n  \nEFIARTES VISUALES\, un estímulo fiscal para los contribuyentes del impuesto sobre la renta que otorga el Artículo 190 de la Ley del Impuesto sobre la Renta\, con el fin de apoyar a los Proyectos de Inversión en la Producción Teatral Nacional; de Artes Visuales; Danza; Música en los Campos específicos de Dirección de Orquesta\, Ejecución Instrumental y Vocal de la Música de Concierto y Jazz. \nEs la oportunidad para desarrollar tus proyectos artísticos y difundirlos. Puedes montar tu exposición y/o intervención e itinerarla\, pagar servicios como restauración\, producción\, transporte\, embalaje\, montaje\, entre otros.[/vc_column_text][vc_empty_space height=»60px»][vc_separator type=»normal» down=»30″][vc_gallery type=»image_grid» images=»1937\,1956\,1952\,1944\,1951\,1950\,1942\,1954\,1940\,1955″ img_size=»medium» column_number=»5″ grayscale=»no» images_space=»gallery_with_space»][/vc_column][/vc_row][vc_row css_animation=»» row_type=»row» use_row_as_full_screen_section=»no» type=»full_width» angled_section=»no» text_align=»left» background_image_as_pattern=»without_pattern»][vc_column][/vc_column][/vc_row] \n
URL:https://fundacionjaviermarin.mx/encuentro/encuentros-ii-efiartes-visuales/
CATEGORIES:Artista Plástico/Visual,Gestor,Multidisciplina
ATTACH;FMTTYPE=image/png:https://fundacionjaviermarin.mx/wp-content/uploads/2018/04/Captura-de-pantalla-2018-04-10-a-las-11.28.16.png
ORGANIZER;CN="Fundaci%C3%B3n%20Javier%20Mar%C3%ADn":MAILTO:contacto@fundacionjaviermarin.mx
END:VEVENT
END:VCALENDAR