BEGIN:VCALENDAR
VERSION:2.0
PRODID:-//Fundación Javier Marín - ECPv4.9.7//NONSGML v1.0//EN
CALSCALE:GREGORIAN
METHOD:PUBLISH
X-WR-CALNAME:Fundación Javier Marín
X-ORIGINAL-URL:https://fundacionjaviermarin.mx
X-WR-CALDESC:Eventos para Fundación Javier Marín
BEGIN:VTIMEZONE
TZID:"UTC"
BEGIN:STANDARD
TZOFFSETFROM:+0000
TZOFFSETTO:+0000
TZNAME:UTC
DTSTART:20200101T000000
END:STANDARD
END:VTIMEZONE
BEGIN:VEVENT
DTSTART;TZID="UTC":20200310T170000
DTEND;TZID="UTC":20200310T183000
DTSTAMP:20260419T163851
CREATED:20200226T225114Z
LAST-MODIFIED:20200226T225114Z
UID:5369-1583859600-1583865000@fundacionjaviermarin.mx
SUMMARY:Encuentros II. Encuentro con Rocío Montoya. Tema: ¿Qué es y cómo se hace una tesis de artes visuales?
DESCRIPTION:[vc_row css_animation=»» row_type=»row» use_row_as_full_screen_section=»no» type=»full_width» angled_section=»no» text_align=»left» background_image_as_pattern=»without_pattern» padding_top=»60″][vc_column][vc_column_text]Encuentros II \nENCUENTRO con Rocío Montoya \n¿Qué es y cómo crear una tesis de artes visuales? \n10 de marzo\, 17:00 hrs.\nFundación Javier Marín (Orizaba #190 Col. Roma\, CDMX)\nConfirma asistencia a: encuentros@fundacionjaviermarin.mx\nENTRADA GRATUITA. \nCUPO LIMITADO \n  \nROCÍO MONTOYA URIBE\n(México DF\, 1984) realizó la Maestría en Artes Visuales en la FAD UNAM y la Licenciatura en Artes Plásticas en la Escuela Nacional de Pintura\, Escultura y Grabado “La Esmeralda”. Tres veces becaria del Programa Jóvenes Creadores del FONCA en la especialidad de Gráfica y Dibujo. Como docente\, ha impartido cursos de dibujo y fotografía\, historia y teoría de las artes\, estética\, semiología\, análisis de la imagen y herramientas de investigación en universidades como ENPEG “La Esmeralda”\, Universidad Autónoma de la Ciudad de México\, Universidad Intercontinenal\, SAE Institute\, Universidad de las Américas\, entre otras. Actualmente estudia sobre los procesos y metodologías de la práctica del arte como investigación. Su obra explora el papel de la imagen fotográfica en la construcción de la narrativa histórica en medios como la fotografía y el dibujo.[/vc_column_text][vc_separator type=»normal» down=»30″][vc_empty_space height=»60px»][vc_separator type=»normal» down=»30″][/vc_column][/vc_row][vc_row css_animation=»» row_type=»row» use_row_as_full_screen_section=»no» type=»full_width» angled_section=»no» text_align=»left» background_image_as_pattern=»without_pattern»][vc_column][/vc_column][/vc_row] \n
URL:https://fundacionjaviermarin.mx/encuentro/encuentros-ii-encuentro-con-rocio-montoya-2020/
LOCATION:Fundación Javier Marín\, Orizaba #190\, Ciudad de México\, Ciudad de México\, 06700\, México
CATEGORIES:Artista Plástico/Visual,Gestor,Multidisciplina
ATTACH;FMTTYPE=image/jpeg:https://fundacionjaviermarin.mx/wp-content/uploads/2020/02/Encuentro-Rocío-Montoya.jpg
ORGANIZER;CN="Fundaci%C3%B3n%20Javier%20Mar%C3%ADn":MAILTO:contacto@fundacionjaviermarin.mx
END:VEVENT
END:VCALENDAR