BEGIN:VCALENDAR
VERSION:2.0
PRODID:-//Fundación Javier Marín - ECPv4.9.7//NONSGML v1.0//EN
CALSCALE:GREGORIAN
METHOD:PUBLISH
X-WR-CALNAME:Fundación Javier Marín
X-ORIGINAL-URL:https://fundacionjaviermarin.mx
X-WR-CALDESC:Eventos para Fundación Javier Marín
BEGIN:VTIMEZONE
TZID:"UTC"
BEGIN:STANDARD
TZOFFSETFROM:+0000
TZOFFSETTO:+0000
TZNAME:UTC
DTSTART:20160101T000000
END:STANDARD
END:VTIMEZONE
BEGIN:VEVENT
DTSTART;TZID="UTC":20160517T120000
DTEND;TZID="UTC":20160517T140000
DTSTAMP:20260423T072909
CREATED:20180508T180614Z
LAST-MODIFIED:20180514T185113Z
UID:2026-1463486400-1463493600@fundacionjaviermarin.mx
SUMMARY:Encuentro con Kerstin Erdmann. Galería OMR
DESCRIPTION:[vc_row css_animation=»» row_type=»row» use_row_as_full_screen_section=»no» type=»full_width» angled_section=»no» text_align=»left» background_image_as_pattern=»without_pattern» padding_top=»60″][vc_column][vc_column_text]Encuentro con Kerstin Erdmann \nEn la Galería OMR \nOMR es una galería de arte contemporáneo fundada en 1983 por Patricia Ortiz Monasterio y Jaime Riestra\, y desde enero de 2016 es dirigida por Cristóbal Riestra y Kerstin Erdmann. La galería representa la obra de artistas activos de la escena nacional e internacional del arte contemporáneo (Julieta Aranda\, José Dávila\,\, Gabriel de la Mora\, Rafael Lozano-Hemmer\, Jorge Méndez Blake\, entre otros)\, así como de los fallecidos Adolfo Riestra y Alberto Gironella. Desde 1983 hasta diciembre de 2015\, OMR se ubicó en un caserío de principios del siglo XX en la Plaza Río de Janeiro 54\, en la colonia Roma. En 2009\, la galería abrió un espacio de proyectos en el edificio de arquitectura funcionalista anexo\, con el propósito de generar una plataforma nueva para propuestas de artistas jóvenes y obras de mayor formato. A este espacio se le llamó el 52\, por encontrarse en el número 52 de la Plaza Río de Janeiro. En 2016\, OMR se mudó a un nuevo espacio en la calle de Córdoba 100\, como parte de un proyecto de renovación\, durante el cual Cristóbal Riestra y Kerstin Erdmann asumió oficialmente la dirección de la galería.[/vc_column_text][vc_separator type=»normal» down=»30″][vc_column_text][/vc_column_text][vc_empty_space height=»60px»][vc_separator type=»normal» down=»30″][vc_gallery type=»image_grid» images=»2027\,2029\,2032\,2030\,2031″ img_size=»medium» column_number=»5″ grayscale=»no» images_space=»gallery_with_space»][/vc_column][/vc_row] \n
URL:https://fundacionjaviermarin.mx/encuentro/encuentros-ii-kerstin-erdmann-en-la-galeria-omr/
CATEGORIES:Artista Plástico/Visual
ATTACH;FMTTYPE=image/jpeg:https://fundacionjaviermarin.mx/wp-content/uploads/2018/05/20160517_121117-e1525802270190.jpg
ORGANIZER;CN="Fundaci%C3%B3n%20Javier%20Mar%C3%ADn":MAILTO:contacto@fundacionjaviermarin.mx
END:VEVENT
END:VCALENDAR