BEGIN:VCALENDAR
VERSION:2.0
PRODID:-//Fundación Javier Marín - ECPv4.9.7//NONSGML v1.0//EN
CALSCALE:GREGORIAN
METHOD:PUBLISH
X-WR-CALNAME:Fundación Javier Marín
X-ORIGINAL-URL:https://fundacionjaviermarin.mx
X-WR-CALDESC:Eventos para Fundación Javier Marín
BEGIN:VTIMEZONE
TZID:"UTC"
BEGIN:STANDARD
TZOFFSETFROM:+0000
TZOFFSETTO:+0000
TZNAME:UTC
DTSTART:20160101T000000
END:STANDARD
END:VTIMEZONE
BEGIN:VEVENT
DTSTART;TZID="UTC":20160524T163000
DTEND;TZID="UTC":20160524T183000
DTSTAMP:20260423T124410
CREATED:20180509T181518Z
LAST-MODIFIED:20180514T184451Z
UID:2052-1464107400-1464114600@fundacionjaviermarin.mx
SUMMARY:Encuentro con Laura Anderson Barbata
DESCRIPTION:[vc_row css_animation=»» row_type=»row» use_row_as_full_screen_section=»no» type=»full_width» angled_section=»no» text_align=»left» background_image_as_pattern=»without_pattern» padding_top=»60″][vc_column][vc_column_text]Encuentro con Laura Anderson Barbata \nEn la Fundación Javier Marín \nVive y trabaja entre Brooklyn\, Nueva York y Ciudad de México. Ha sido profesora en La Escuela Nacional de Pintura\, Grabado y Escultura La Esmeralda (INBA)\, Ciudad de México (2010-2015); Miembro Honorario del Programa de Estudios Latinoamericanos\, Caribeños e Ibéricos de la Universidad de Wisconsin\, Madison; Miembro de TBA21 The Current\, Thyssen-Bornemisza Art Contemporary\, Austria. Miembro del Sistema Nacional para Creadores (fonca). Desde 1992 trabaja principalmente en el ámbito social y público donde ha realizado proyectos transdisciplinarios en México\, el Amazonas de Venezuela\, Trinidad y Tobago\, Noruega y Estados Unidos. \nEntre sus exposiciones individuales y proyectos mas relevantes se encuentran: Transcomunalidad-intervenciones y colaboraciones con comunidades zanqueras\, Trinidad y Tobago\, Nueva York y Oaxaca (2002-presente); La repatriación de Julia Pastrana (Oslo-México\, 2003-2013); su participación en el programa de Thyssen Bornemisza TBA21 The Current en Papúa Nueva Guinea y en Kingston\, Jamaica. Su trabajo forma parte de importantes colecciones privadas y públicas en México y el extranjero.[/vc_column_text][vc_separator type=»normal» down=»30″][vc_column_text][/vc_column_text][vc_empty_space height=»60px»][vc_separator type=»normal» down=»30″][vc_gallery type=»image_grid» images=»2053\,2054″ img_size=»medium» column_number=»5″ grayscale=»no» images_space=»gallery_with_space»][/vc_column][/vc_row] \n
URL:https://fundacionjaviermarin.mx/encuentro/encuentros-ii-laura-anderson-barbata/
CATEGORIES:Artista Plástico/Visual
ATTACH;FMTTYPE=image/png:https://fundacionjaviermarin.mx/wp-content/uploads/2018/05/Anderson.png
ORGANIZER;CN="Fundaci%C3%B3n%20Javier%20Mar%C3%ADn":MAILTO:contacto@fundacionjaviermarin.mx
END:VEVENT
END:VCALENDAR