BEGIN:VCALENDAR
VERSION:2.0
PRODID:-//Fundación Javier Marín - ECPv4.9.7//NONSGML v1.0//EN
CALSCALE:GREGORIAN
METHOD:PUBLISH
X-WR-CALNAME:Fundación Javier Marín
X-ORIGINAL-URL:https://fundacionjaviermarin.mx
X-WR-CALDESC:Eventos para Fundación Javier Marín
BEGIN:VTIMEZONE
TZID:"UTC"
BEGIN:STANDARD
TZOFFSETFROM:+0000
TZOFFSETTO:+0000
TZNAME:UTC
DTSTART:20160101T000000
END:STANDARD
END:VTIMEZONE
BEGIN:VEVENT
DTSTART;TZID="UTC":20160512T120000
DTEND;TZID="UTC":20160512T140000
DTSTAMP:20260422T231142
CREATED:20180508T171124Z
LAST-MODIFIED:20180514T185422Z
UID:2012-1463054400-1463061600@fundacionjaviermarin.mx
SUMMARY:Encuentro con Marianna Dellekamp. Trayectoria Profesional
DESCRIPTION:[vc_row css_animation=»» row_type=»row» use_row_as_full_screen_section=»no» type=»full_width» angled_section=»no» text_align=»left» background_image_as_pattern=»without_pattern» padding_top=»60″][vc_column][vc_column_text]Encuentro con Marianna Dellekamp \nEn la Fundación Javier Marín \nEstudió fotografía en México y Nueva York. Su trabajo ha sido expuesto individualmente en el Museo de Arte Moderno\, Ciudad de México; Alonso Garcés Galería\, Bogotá\, Colombia; Instituto de México en Madrid\, España; Centro de la Imagen\, la Galería Acceso A\, Museo Universitario de Ciencias y Artes\, Centro Multimedia (cna)\, Galería Manuel Felguerez (uam)\, Ciudad de México; así como en la Galería Emma Molina\, Monterrey\, en el Centro de Arte Moderno\, Guadalajara\, y en el Encuentro de Fotografía\, Morelia\, Michoacán\, México. Ha sido becaria del Sistema Nacional de Creadores\, fonca (2009-2011) y de Jóvenes Creadores\, fonca\, en dos ocasiones (1998-1999\, 1995-1996). Recibió el Premio Nacional de Arte Joven\, Aguascalientes\, México\, 1996 y fue premiada en el 3er Salón Internacional de Guadalajara\, 1998. Colectivamente su trabajo ha sido mostrado en múltiples exposiciones en México\, Estados Unidos y Europa.[/vc_column_text][vc_separator type=»normal» down=»30″][vc_column_text][/vc_column_text][vc_empty_space height=»60px»][vc_separator type=»normal» down=»30″][vc_gallery type=»image_grid» images=»2013\,2014\,2016\,2015\,2019″ img_size=»medium» column_number=»5″ grayscale=»no» images_space=»gallery_with_space»][/vc_column][/vc_row] \n
URL:https://fundacionjaviermarin.mx/encuentro/encuentros-ii-marianna-dellekamp-trayectoria-profesional/
CATEGORIES:Artista Plástico/Visual
ATTACH;FMTTYPE=image/png:https://fundacionjaviermarin.mx/wp-content/uploads/2018/05/dellekamp.png
ORGANIZER;CN="Fundaci%C3%B3n%20Javier%20Mar%C3%ADn":MAILTO:contacto@fundacionjaviermarin.mx
END:VEVENT
END:VCALENDAR