BEGIN:VCALENDAR
VERSION:2.0
PRODID:-//Fundación Javier Marín - ECPv4.9.7//NONSGML v1.0//EN
CALSCALE:GREGORIAN
METHOD:PUBLISH
X-WR-CALNAME:Fundación Javier Marín
X-ORIGINAL-URL:https://fundacionjaviermarin.mx
X-WR-CALDESC:Eventos para Fundación Javier Marín
BEGIN:VTIMEZONE
TZID:"UTC"
BEGIN:STANDARD
TZOFFSETFROM:+0000
TZOFFSETTO:+0000
TZNAME:UTC
DTSTART:20180101T000000
END:STANDARD
END:VTIMEZONE
BEGIN:VEVENT
DTSTART;TZID="UTC":20180405T160000
DTEND;TZID="UTC":20180413T190000
DTSTAMP:20260425T021117
CREATED:20180606T172646Z
LAST-MODIFIED:20220817T215759Z
UID:2515-1522944000-1523646000@fundacionjaviermarin.mx
SUMMARY:Encuentros II. Seminario ¿Qué es y cómo crear una tesis de artes visuales?  Imparte: Rocío Montoya
DESCRIPTION:[vc_row css_animation=»» row_type=»row» use_row_as_full_screen_section=»no» type=»full_width» angled_section=»no» text_align=»left» background_image_as_pattern=»without_pattern» padding_top=»60″][vc_column][vc_column_text] \nDescripción\n[/vc_column_text][vc_separator type=»normal» down=»30″][vc_column_text]Seminario ¿Qué es y cómo crear una tesis de artes visuales? \nImpartió: Rocío Montoya \n4 sesiones de 3 horas \n5\,6\,12 y 13 de abril \nEn la Biblioteca Pública Aeromoto \n  \nLa intención de este seminario fue conocer de manera teórica el proceso\, estructura\, estrategias\, herramientas y metodologías para la creación de un documento de tesis de titulación para licenciatura en artes visuales. | En esta ocasión dimos once becas a los alumnos de la La Esmeralda ENPEG\, FAD (UNAM)\, Facultad de Arte y Diseño Plantel Taxco y de la UAEMex. \nObjetivos específicos \n1. Definir un proyecto de investigación con obra ya realizada. \n2. Delimitar los alcances temáticos\, teóricos\, estéticos y técnicos de una investigación. \n3. Integrar herramientas y estrategias alternativas de investigación en artes. \n4. Detallar la estructura de un documento de investigación formal. \n5. Identificar estrategias y herramientas metodológicas. \n6. Proyectar plataformas de presentación del proyecto concluido. \nFue dirigido a Egresados (pasantes) de las licenciaturas en artes visuales o plásticas que desean titularse en las modalidades de tesis\, tesina\, ensayo\, producto artístico o exposición. \n  \nRocío Montoya Uribe\, realizó la Maestría en Artes Visuales en la Academia de San Carlos FAD-UNAM y la Licenciatura en Artes Plásticas en la ENPEG “La Esmeralda”. Ha sido dos veces becaria del Programa Jóvenes Creadores del FONCA. Como docente\, ha impartido cursos de técnica\, historia y teoría de las artes\, estética\, semiología y análisis de la imagen. Forma parte de cuerpo de tutores del Programa de Estímulo a la Investigación en el área de Producción de la Universidad Tecnológica. Actualmente estudia sobre los procesos y metodologías de la práctica del arte como investigación. Su obra explora el papel de la imagen fotográfica en la construcción de la narrativa histórica en medios como la fotografía y el dibujo. \n[/vc_column_text][vc_column_text]Seminario ¿Qué es y cómo crear una tesis de artes visuales? \nImpartió: Rocío Montoya \n4 sesiones de 3 horas \nEn la Biblioteca Pública Aeromoto \n  \nLa intención de este seminario fue conocer de manera teórica el proceso\, estructura\, estrategias\, herramientas y metodologías para la creación de un documento de tesis de titulación para licenciatura en artes visuales. | En esta ocasión dimos once becas a los alumnos de la La Esmeralda ENPEG\, FAD (UNAM)\, Facultad de Arte y Diseño Plantel Taxco y de la UAEMex. \nObjetivos específicos \n1. Definir un proyecto de investigación con obra ya realizada. \n2. Delimitar los alcances temáticos\, teóricos\, estéticos y técnicos de una investigación. \n3. Integrar herramientas y estrategias alternativas de investigación en artes. \n4. Detallar la estructura de un documento de investigación formal. \n5. Identificar estrategias y herramientas metodológicas. \n6. Proyectar plataformas de presentación del proyecto concluido. \nFue dirigido a Egresados (pasantes) de las licenciaturas en artes visuales o plásticas que desean titularse en las modalidades de tesis\, tesina\, ensayo\, producto artístico o exposición. \n  \nRocío Montoya Uribe\, realizó la Maestría en Artes Visuales en la Academia de San Carlos FAD-UNAM y la Licenciatura en Artes Plásticas en la ENPEG “La Esmeralda”. Ha sido dos veces becaria del Programa Jóvenes Creadores del FONCA. Como docente\, ha impartido cursos de técnica\, historia y teoría de las artes\, estética\, semiología y análisis de la imagen. Forma parte de cuerpo de tutores del Programa de Estímulo a la Investigación en el área de Producción de la Universidad Tecnológica. Actualmente estudia sobre los procesos y metodologías de la práctica del arte como investigación. Su obra explora el papel de la imagen fotográfica en la construcción de la narrativa histórica en medios como la fotografía y el dibujo. \n[/vc_column_text][vc_empty_space height=»60px»][vc_separator type=»normal» down=»30″][vc_gallery type=»image_grid» images=»2516\,2517\,2518\,2519\,2520\,2521\,2524″ img_size=»medium» column_number=»2″ grayscale=»no» images_space=»gallery_without_space»][/vc_column][/vc_row] \n
URL:https://fundacionjaviermarin.mx/encuentro/encuentros-ii-seminario-que-es-y-como-crear-una-tesis-de-artes-visuales-imparte-rocio-montoya/
CATEGORIES:Artista Plástico/Visual,Gestor,Multidisciplina
ATTACH;FMTTYPE=image/jpeg:https://fundacionjaviermarin.mx/wp-content/uploads/2018/06/IMG_5139-1.jpeg
END:VEVENT
END:VCALENDAR