BEGIN:VCALENDAR
VERSION:2.0
PRODID:-//Fundación Javier Marín - ECPv4.9.7//NONSGML v1.0//EN
CALSCALE:GREGORIAN
METHOD:PUBLISH
X-WR-CALNAME:Fundación Javier Marín
X-ORIGINAL-URL:https://fundacionjaviermarin.mx
X-WR-CALDESC:Eventos para Fundación Javier Marín
BEGIN:VTIMEZONE
TZID:"UTC"
BEGIN:STANDARD
TZOFFSETFROM:+0000
TZOFFSETTO:+0000
TZNAME:UTC
DTSTART:20260101T000000
END:STANDARD
END:VTIMEZONE
BEGIN:VEVENT
DTSTART;TZID="UTC":20260425T170000
DTEND;TZID="UTC":20260425T190000
DTSTAMP:20260424T011258
CREATED:20260423T173206Z
LAST-MODIFIED:20260423T173206Z
UID:7685-1777136400-1777143600@fundacionjaviermarin.mx
SUMMARY:Festival para las infancias. Obra de teatro: Luna en el Centro Cultural Fábrica de San Pedro
DESCRIPTION:[vc_row css_animation=»» row_type=»row» use_row_as_full_screen_section=»no» type=»full_width» angled_section=»no» text_align=»left» background_image_as_pattern=»without_pattern» padding_top=»60″][vc_column][vc_column_text css=»»] \n\n\n\n\n\n\n\n\n\n\n\n\n\n\n\n\n\n\n\n\n\n\n\n\n\n\n\n\n\n\n\n\n\n\n\n\n\n\nFestival para las infancias 2026.\nLuna\nObra de teatro\nde Afolfo Reyes.\nDirección: Luisa Fernanda Ortiz\n\nMúsica en vivo: Laura Trotes\n\nTeatro para niños y niñas de tres a seis años\n\n\nFunciones: Sábado 2 de mayo\, 4:30 y 6:00 pm\n\n\n\nCentro Cultural Fábrica de San Pedro\nMiguel Treviño #100\, Centro\, Uruapan\, Mich.\n\n\n\n\n\n\n\n\n\n\n\n\n\n\n\n\n\n\n\n\n\n\n\n\n\n\n\n\n\n\n\n\n\n\n\n\n\n\n\n\n\n\n\n\n\n\n\n\n\n\n\n\n[/vc_column_text][/vc_column][/vc_row] \n
URL:https://fundacionjaviermarin.mx/encuentro/festival-para-las-infancias-obra-de-teatro-luna/
LOCATION:Fundación Javier Marín\, Orizaba #190\, Ciudad de México\, Ciudad de México\, 06700\, México
CATEGORIES:Independientes,Multidisciplina,Otros,Performance
ATTACH;FMTTYPE=image/jpeg:https://fundacionjaviermarin.mx/wp-content/uploads/2026/04/LUNA-TEATRO3_Mesa-de-trabajo-1.jpg-scaled.jpeg
ORGANIZER;CN="Fundaci%C3%B3n%20Javier%20Mar%C3%ADn":MAILTO:contacto@fundacionjaviermarin.mx
END:VEVENT
END:VCALENDAR