BEGIN:VCALENDAR
VERSION:2.0
PRODID:-//Fundación Javier Marín - ECPv4.9.7//NONSGML v1.0//EN
CALSCALE:GREGORIAN
METHOD:PUBLISH
X-WR-CALNAME:Fundación Javier Marín
X-ORIGINAL-URL:https://fundacionjaviermarin.mx
X-WR-CALDESC:Eventos para Fundación Javier Marín
BEGIN:VTIMEZONE
TZID:"UTC"
BEGIN:STANDARD
TZOFFSETFROM:+0000
TZOFFSETTO:+0000
TZNAME:UTC
DTSTART:20220101T000000
END:STANDARD
END:VTIMEZONE
BEGIN:VEVENT
DTSTART;TZID="UTC":20221021T110000
DTEND;TZID="UTC":20221030T190000
DTSTAMP:20260419T181558
CREATED:20221006T180228Z
LAST-MODIFIED:20221006T180228Z
UID:6390-1666350000-1667156400@fundacionjaviermarin.mx
SUMMARY:Ensamble Artesano y La Colmena en Casa Spina
DESCRIPTION:[vc_row css_animation=»» row_type=»row» use_row_as_full_screen_section=»no» type=»full_width» angled_section=»no» text_align=»left» background_image_as_pattern=»without_pattern» padding_top=»60″][vc_column][vc_column_text] \n\n\n\nEn el marco del 20º Festival Internacional de Cine de Morelia \n\nFundación Coppel y Fundación Javier Marín presentan:\nEnsamble Artesano y La Colmena\nProyectos de diseño con causa\n\n\n\n\n21 al 30 de octubre de 2022\n11:00 am a 7:00 pm\n\n\n\n\nCasa Spina\nJardín de las Rosas\nCalle El Nigromante #146\, Centro Histórico\, Morelia\, Mich.\n\n\n\n\n  \n\n\n\n[/vc_column_text][/vc_column][/vc_row] \n
URL:https://fundacionjaviermarin.mx/encuentro/almuerzo-en-san-pedro-2/
LOCATION:Casa Spina\, El Nigromante #146\, Centro Histórico\, Morelia\, Michoacán\, México
CATEGORIES:Instituciones,Multidisciplina,Museos,Otros
ATTACH;FMTTYPE=image/png:https://fundacionjaviermarin.mx/wp-content/uploads/2022/10/FLYER_CASASPINA-cuadrado-02.png
END:VEVENT
END:VCALENDAR