BEGIN:VCALENDAR
VERSION:2.0
PRODID:-//Fundación Javier Marín - ECPv4.9.7//NONSGML v1.0//EN
CALSCALE:GREGORIAN
METHOD:PUBLISH
X-WR-CALNAME:Fundación Javier Marín
X-ORIGINAL-URL:https://fundacionjaviermarin.mx
X-WR-CALDESC:Eventos para Fundación Javier Marín
BEGIN:VTIMEZONE
TZID:"UTC"
BEGIN:STANDARD
TZOFFSETFROM:+0000
TZOFFSETTO:+0000
TZNAME:UTC
DTSTART:20190101T000000
END:STANDARD
END:VTIMEZONE
BEGIN:VEVENT
DTSTART;TZID="UTC":20191210T190000
DTEND;TZID="UTC":20200809T210000
DTSTAMP:20260420T015303
CREATED:20200616T215444Z
LAST-MODIFIED:20200616T215444Z
UID:5636-1576004400-1597006800@fundacionjaviermarin.mx
SUMMARY:Anillos Concéntricos en el ME\, Ags.
DESCRIPTION:[vc_row css_animation=»» row_type=»row» use_row_as_full_screen_section=»no» type=»full_width» angled_section=»no» text_align=»left» background_image_as_pattern=»without_pattern» padding_top=»60″][vc_column][vc_column_text] \n\nAnillos Concéntricos \n\nExposición colectiva en diálogo con los procesos artesanales. \n\n#QuédateEnCasa #yomequedoencasa #recorridovirtual \n  \n\n[/vc_column_text][/vc_column][/vc_row] \n
URL:https://fundacionjaviermarin.mx/encuentro/javiermarinclaroscuromahg-2-2/
LOCATION:Museo Espacio\, Ags.\, Av. Gómez Morín\, Ferrocarril\, AntiguosTalleres del Ferrocarril\, Barrio de la Estación\, Aguascalientes\, Aguascalientes\, México
CATEGORIES:Instituciones,Multidisciplina,Museos,Otros
ATTACH;FMTTYPE=image/jpeg:https://fundacionjaviermarin.mx/wp-content/uploads/2020/06/Anillos-concéntricos112427-scaled.jpg
ORGANIZER;CN="Fundaci%C3%B3n%20Javier%20Mar%C3%ADn":MAILTO:contacto@fundacionjaviermarin.mx
END:VEVENT
BEGIN:VEVENT
DTSTART;TZID="UTC":20200221T190000
DTEND;TZID="UTC":20200913T210000
DTSTAMP:20260420T015303
CREATED:20200216T224132Z
LAST-MODIFIED:20200907T204301Z
UID:5632-1582311600-1600030800@fundacionjaviermarin.mx
SUMMARY:Últimos días de Javier Marín Claroscuro en el MAHG
DESCRIPTION:[vc_row css_animation=»» row_type=»row» use_row_as_full_screen_section=»no» type=»full_width» angled_section=»no» text_align=»left» background_image_as_pattern=»without_pattern» padding_top=»60″][vc_column][vc_column_text]Javier Marín\nCLAROSCURO \nÚLTIMOS DÍAS\nHasta el 13 de Septiembre \n  \nEl Gobierno de Estado de Guanajuato\, a través del Forum Cultural y su Museo de Arte e Historia\, en vinculación con Terreno Baldío Arte y la Fundación Javier Marín\, tienen el gusto de invitarle a la inauguración de la exposición temporal: \nJavier Marín Claroscuro \n\nClaroscuro es un concepto tradicionalmente asociado a la pintura\, pero que Javier Marín\, escultor conjuga con maestría en su obra tridimensional como metáfora de la lucha de contrarios. \n#QuédateEnCasa #yomequedoencasa #recorridovirtual \n#Javiermarinclaroscuro\, #Javiermarin\, #Javiermarinescultor\, #MAHG \n\n[/vc_column_text][/vc_column][/vc_row] \n
URL:https://fundacionjaviermarin.mx/encuentro/javiermarinclaroscuromahg-2/
LOCATION:Museo de Arte e Historia de Guanajuato\, Prolongación Calzada de los Héroes No. 908\, León\, Guanajuato\, 37500\, México
CATEGORIES:Instituciones,Multidisciplina,Museos,Otros
ATTACH;FMTTYPE=image/jpeg:https://fundacionjaviermarin.mx/wp-content/uploads/2020/02/118950237_10164150541450321_604729606793249598_o.jpg
ORGANIZER;CN="Fundaci%C3%B3n%20Javier%20Mar%C3%ADn":MAILTO:contacto@fundacionjaviermarin.mx
END:VEVENT
BEGIN:VEVENT
DTSTART;TZID="UTC":20200710T010000
DTEND;TZID="UTC":20200726T233000
DTSTAMP:20260420T015303
CREATED:20200713T204126Z
LAST-MODIFIED:20200713T204533Z
UID:5729-1594342800-1595806200@fundacionjaviermarin.mx
SUMMARY:Convocatoria de BECA para el Seminario: Construcción de Portafolio y Autopromoción impartido por Catalina Restrepo
DESCRIPTION:[vc_row css_animation=»» row_type=»row» use_row_as_full_screen_section=»no» type=»full_width» angled_section=»no» text_align=»left» background_image_as_pattern=»without_pattern» padding_top=»60″][vc_column][vc_column_text]SEMINARIO  \nConstrucción de Portafolio y Autopromoción \nImpartido por Catalina Restrepo \nEl objetivo de este seminario es aprender a armar un portafolio y tener una noción amplia de las posibilidades\, oportunidades\, estrategias y protocolos  que existen para sacar el mayor provecho de esta herramienta. \nDirigido a artistas en general. \nCONVOCATORIA DE BECA \nRequisitos: \n\n10 fotos de tu trabajo\nStatement o texto que explique los ejes temáticos de tu obra\nCarta motivos en PDF\nEnlace a tu página web o redes sociales\n\nEnviar a: encuentros@fundacionjaviermarin.mx \nRecepción de solicitudes: 10 al 26 de julio \nLos seleccionados serán notificados el 31 de julio en nuestras redes y por correo. \nFechas del seminario: 4\,6\,11 y 13 de agosto  de 4:00 pm a 7:00 pm vía zoom. \nCATALINA RESTREPO \nNació en Bogotá\, Colombia el año de 1982. Se graduó de la Escuela de Artes Visuales de la Universidad Javeriana en la misma ciudad en 2007. Autora del libro Portafolio de Artista\, una herramienta clave para una promoción exitosa de la colección PUNTAL editado por la Fundación Javier Marín. En 2006\, fundó LivingArtRoom www.livingartroom.com con el propósito de promover el trabajo de artistas contemporáneos profesionales a través de portafolios completos. En 2010\, creó junto a Judith Memun LARMAGAZINE www.lar-magazine.com\, una revista de arte contemporáneo interactiva y bilingüe en formato app\, misma que ha sido presentada en foros tan importantes como ARCOmadrid\, Zona MACO\, ARTBO y arteBA\, por nombrar algunos. En 2015 inauguró en Monterrey\, un espacio educativo desarrollado para la formación\, promoción y vinculación de la comunidad artística local llamado LARSCHOOL. Dirigió en 2014 FOCUS\, programa para a la profesionalización y vinculación de artistas destacados\, para el cual desarrolló 2 ciclos de conferencias como parte del mismo programa con invitados internacionales\, para ser realizados en la Escuela Adolfo Prieto de CONARTE; ese mismo año fue invitada al programa Young Curators Workshop de la 8th Berlin Biennale. De 2013 a 2016\, Catalina fue profesora en la Universidad LCI Monterrey y ha impartido cursos de Autopromoción y Gestión en diferentes museos e instituciones de arte en diferentes ciudades. Por ejemplo: el Museo Amparo de Puebla\, Museo de Arte Contemporáneo MARCO de Monterrey\, Casa Vecina en la Ciudad de México y CONARTE en Monterrey. Además\, ha realizado varias curadurías en espacios expositivos de Monterrey\, Ciudad de México y Bogotá. \n[/vc_column_text][vc_separator type=»normal» down=»30″][vc_empty_space height=»60px»][vc_separator type=»normal» down=»30″][/vc_column][/vc_row][vc_row css_animation=»» row_type=»row» use_row_as_full_screen_section=»no» type=»full_width» angled_section=»no» text_align=»left» background_image_as_pattern=»without_pattern»][vc_column][/vc_column][/vc_row] \n
URL:https://fundacionjaviermarin.mx/encuentro/encuentros-ii-seminario-catalina-restrepo-2020-2-2/
LOCATION:Fundación Javier Marín\, Orizaba #190\, Ciudad de México\, Ciudad de México\, 06700\, México
CATEGORIES:Artista Plástico/Visual,Gestor,Mercado del Arte,Multidisciplina
ATTACH;FMTTYPE=image/png:https://fundacionjaviermarin.mx/wp-content/uploads/2020/07/Seminario-Construccion-de-portafolio.png
ORGANIZER;CN="Fundaci%C3%B3n%20Javier%20Mar%C3%ADn":MAILTO:contacto@fundacionjaviermarin.mx
END:VEVENT
BEGIN:VEVENT
DTSTART;TZID="UTC":20200722T180000
DTEND;TZID="UTC":20200722T190000
DTSTAMP:20260420T015303
CREATED:20200720T174657Z
LAST-MODIFIED:20200720T174657Z
UID:5734-1595440800-1595444400@fundacionjaviermarin.mx
SUMMARY:Presentación editorial: Colección PUNTAL en el MAHG
DESCRIPTION:[vc_row css_animation=»» row_type=»row» use_row_as_full_screen_section=»no» type=»full_width» angled_section=»no» text_align=»left» background_image_as_pattern=»without_pattern» padding_top=»60″][vc_column][vc_column_text]Presentación editorial: Colección PUNTAL en el MAHG \n22 de julio 18:00 hrs \nEste evento será transmitido por Facebook\, solo tienes que entrar a esta página a las 18:00 horas. De esa hora y hasta las 19:00 horas puedes hacer preguntas\, que serán respondidas por ese mismo medio. Posteriormente\, las responderemos como mensaje. \nDe la idea al papel: pasos para solicitar patrocinios culturales\, de la colección PUNTAL de la Fundación Javier Marín\, con la participación de Estefanía Ángeles\, directora de la Fundación Javier Marín; Sara Schulz\, editora; y René Roquet\, coautor del libro. \nLa colección PUNTAL ha sido pensada como una serie de herramientas y material de apoyo para desarrollar y potenciar diversas habilidades de artistas emergentes\, investigadores del medio de las artes\, antropólogos culturales\, académicos\, gestores\, promotores culturales. Es un material de apoyo didáctico realizado en un contexto de aprendizaje guiado por un «profesional del arte»\, con un marco sólido de referencias y un cuidado de los contenidos\, producto de la investigación y la práctica constante en un ambiente profesional. \nEstefanía Angeles (Ciudad de México)\nEgresada de la Escuela de Derecho de la Sorbona en París con una licenciatura y maestría en derecho internacional económico. Maestra en mediación cultural por la Escuela del Louvre\, cuenta con una especialización en «Cultura Mexicana» por la UNAM y un diplomado en políticas públicas para el desarrollo por el Instituto de Desarrollo de Corea. Con una trayectoria de doce años de experiencia en el servicio público mexicano\, fungió como como agregada de cooperación educativa\, técnica y científica de la Embajada de México en Francia (2013-17) y posteriormente como agregada cultural de esta misma Embajada y directora del Instituto cultural de México en Francia (2017-19). La República Francesa la condecoró con la orden de las Palmas Académicas en grado de Caballero. Desde el 1º de septiembre de 2019 fue nombrada directora de la Fundación Javier Marín A.C. \nSara Schulz (Ciudad de México)\nEditora especializada en libros de arte y ensayo literario\, político y filosófico. Estudió la licenciatura en filosofía en la UNAM. Comenzó su labor en el ámbito de los libros con Miguel Ángel Porrúa\, luego en Artes de México y posteriormente en Grupo Santillana\, donde estuvo a cargo de editorial Aguilar. De 2007 a 2015 fue directora editorial de Alias\, iniciativa para la publicación de libros de arte contemporáneo con distribución nacional e internacional. Durante dos años y hasta su extinción fue jefa de redacción de Conspiratio\, revista de ensayo filosófico-literario y de poesía\, dirigida por Javier Sicilia. Actualmente se desempeña como editora independiente\, directora editorial de la colección Puntal de la Fundación Javier Marín y es socia fundadora del naciente proyecto Fauna\, plataforma de investigación sobre el campo editorial y para la publicación y distribución de materiales impresos. Desde el escenario de la edición independiente y la cultura le interesa reflexionar y trabajar en torno a la historia reciente del mundo de artes y los libros en México. \nRené Roquet (Ciudad de México)\nPosee estudios en lengua y literatura\, en gestión cultural\, en mercados escénicos internacionales y en procesos gerenciales. Ha colaborado con artículos\, reseñas y crítica de literatura y música en revistas\, periódicos y antologías. Es autor del libro de cuentos El hombre sin pertenencia (Ficticia\, 2005)\, así como De la idea al papel. Pasos para solicitar patrocinios culturales (FJM -Puntal\, 2017)\, junto con Ivonne Pérez. De 1995 a enero de 2019 trabajó en el Fondo Nacional para la Cultura y las Artes (FONCA)\, en el programa Jóvenes Creadores\, en donde organizó más de noventa encuentros de arte\, treinta exposiciones de artes visuales\, la publicación de más de veinte antologías literarias\, así como en la producción de diversas funciones de danza\, música y teatro en distintos estados de la República Mexicana. Fue el líder del equipo de construcción del primer sitio de recepción de propuestas artísticas por internet del FONCA\, responsable de más de seis programas nacionales de apoyo a artistas y participó en la conformación y regulación de diversas convocatorias estatales y federales. En 2007 concibió México: Encuentro de las Artes Escénicas y fue su Coordinador de Programación (2008)\, así como su Coordinador General (2009-2018). Ha dado cursos y pláticas sobre cómo solicitar patrocinios culturales y ha hecho labores de programación y asesoramiento para festivales y mercados escénicos. Formó parte del jurado de EFITEATRO en 2019 y del Festival de Arte del Estado de México\, realizó la producción de la ópera «Carlota» del Festival Internacional de Chihuahua el año pasado. Actualmente se desempeña como el programador del Festival de Arte Nuevo de Chihuahua. \nModerador: Víctor Marín Meléndez\nDoctorando en Artes en la Universidad de Guanajuato. Posee una maestría en gobierno y administración con enfoque en políticas culturales y la licenciatura en comunicación por la Benemérita Universidad Autónoma de Puebla. Diplomado en Apreciación del Arte por la Universidad de Guanajuato y el Forum Cultural Guanajuato\, en Políticas Públicas de Juventud por la UNAM\, así como por el Instituto de Administración Pública del Estado de Puebla en Desarrollo Institucional y Gestión de la Calidad\, y Dirección Organizacional. Originario de Tuxpan\, Veracruz\, gestor cultural y docente. \n[/vc_column_text][vc_separator type=»normal» down=»30″][vc_empty_space height=»60px»][vc_separator type=»normal» down=»30″][/vc_column][/vc_row][vc_row css_animation=»» row_type=»row» use_row_as_full_screen_section=»no» type=»full_width» angled_section=»no» text_align=»left» background_image_as_pattern=»without_pattern»][vc_column][/vc_column][/vc_row] \n
URL:https://fundacionjaviermarin.mx/encuentro/presentacion-editorial-coleccion-puntal-en-el-mahg/
LOCATION:Fundación Javier Marín\, Orizaba #190\, Ciudad de México\, Ciudad de México\, 06700\, México
CATEGORIES:Artista Plástico/Visual,Gestor,Mercado del Arte,Multidisciplina
ATTACH;FMTTYPE=image/png:https://fundacionjaviermarin.mx/wp-content/uploads/2020/07/CARTEL-PUNTAL-MAHG.png
ORGANIZER;CN="Fundaci%C3%B3n%20Javier%20Mar%C3%ADn":MAILTO:contacto@fundacionjaviermarin.mx
END:VEVENT
END:VCALENDAR