BEGIN:VCALENDAR
VERSION:2.0
PRODID:-//Fundación Javier Marín - ECPv4.9.7//NONSGML v1.0//EN
CALSCALE:GREGORIAN
METHOD:PUBLISH
X-WR-CALNAME:Fundación Javier Marín
X-ORIGINAL-URL:https://fundacionjaviermarin.mx
X-WR-CALDESC:Eventos para Fundación Javier Marín
BEGIN:VTIMEZONE
TZID:"UTC"
BEGIN:STANDARD
TZOFFSETFROM:+0000
TZOFFSETTO:+0000
TZNAME:UTC
DTSTART:20230101T000000
END:STANDARD
END:VTIMEZONE
BEGIN:VEVENT
DTSTART;TZID="UTC":20230330T160000
DTEND;TZID="UTC":20230330T190000
DTSTAMP:20260423T150447
CREATED:20230322T164304Z
LAST-MODIFIED:20230322T164304Z
UID:6538-1680192000-1680202800@fundacionjaviermarin.mx
SUMMARY:Taller: Raíz Cuadrada: Moda y Confección. Impartido por Carla Fernández y Graciela Reyes
DESCRIPTION:[vc_row css_animation=»» row_type=»row» use_row_as_full_screen_section=»no» type=»full_width» angled_section=»no» text_align=»left» background_image_as_pattern=»without_pattern» padding_top=»60″][vc_column][vc_column_text] \n\n\n\n\n\n\n\nTaller Raíz Cuadrada: Moda y Confección\n\n\nImparte Carla Fernández y Graciela Reyes\n\n\nDirigido a público en general con interés y/o experiencia en textiles.\n\n\n\nEntrada libre con previo registro \nJueves 30 de marzo de 2023\n4:00 a 7:00 pm\nDuración: 3 horas \nMateriales requeridos:\n–Tijeras para papel\n–Tijeras para tela\n–8 retazos textiles variados\, tejido plano o de punto (de 40 x 40 cm aprox.) \nInscripciones por Whatsapp al número:\n951 237 1879. Enviando nombre completo\, lugar de residencia y edad. \n\n\n\n\n\n\n\n\n\nGran Nave\, Planta baja\nCentro Cultural Fábrica de San Pedro\n\nMiguel Treviño 100\, Centro\, Uruapan\, Michoacán\n\n\n\n\n\n\n\n\n\n\n\n\n[/vc_column_text][/vc_column][/vc_row] \n
URL:https://fundacionjaviermarin.mx/encuentro/taller-raiz-cuadrada-moda-y-confeccion-impartido-por-carla-fernandez-y-graciela-reyes/
LOCATION:Fabrica de San Pedro\, Miguel Treviño #100. Centro\, Uruapan\, Michoacan\, 6000\, México
CATEGORIES:Independientes,Multidisciplina,Otros
ATTACH;FMTTYPE=image/jpeg:https://fundacionjaviermarin.mx/wp-content/uploads/2023/03/Taller-Raiz-Cuadrada-Carla-Fernández.jpg
ORGANIZER;CN="Fundaci%C3%B3n%20Javier%20Mar%C3%ADn":MAILTO:contacto@fundacionjaviermarin.mx
END:VEVENT
END:VCALENDAR