BEGIN:VCALENDAR
VERSION:2.0
PRODID:-//Fundación Javier Marín - ECPv4.9.7//NONSGML v1.0//EN
CALSCALE:GREGORIAN
METHOD:PUBLISH
X-WR-CALNAME:Fundación Javier Marín
X-ORIGINAL-URL:https://fundacionjaviermarin.mx
X-WR-CALDESC:Eventos para Fundación Javier Marín
BEGIN:VTIMEZONE
TZID:"UTC"
BEGIN:STANDARD
TZOFFSETFROM:+0000
TZOFFSETTO:+0000
TZNAME:UTC
DTSTART:20230101T000000
END:STANDARD
END:VTIMEZONE
BEGIN:VEVENT
DTSTART;TZID="UTC":20230331T170000
DTEND;TZID="UTC":20230409T180000
DTSTAMP:20260422T215138
CREATED:20230314T000139Z
LAST-MODIFIED:20230316T000938Z
UID:6515-1680282000-1681063200@fundacionjaviermarin.mx
SUMMARY:Actividades en Centro Cultural Fábrica de San Pedro durante el Tianguis Artesanal de Domingo de Ramos
DESCRIPTION:[vc_row css_animation=»» row_type=»row» use_row_as_full_screen_section=»no» type=»full_width» angled_section=»no» text_align=»left» background_image_as_pattern=»without_pattern» padding_top=»60″][vc_column][vc_column_text] \n\n\n\n\n\n\nDurante el Tianguis Artesanal de Domingo de Ramos\nInauguración: Viernes 31 de marzo\, 5:00 pm \n\nCOCINA DE BARRIO Muestra gastrónomica\nEXPOSICIÓN DE MANUEL ÁLVAREZ BRAVO «Los años decisivos»\nEXPOSICIÓN DE CARLA FERNÁNDEZ «Acción: el hacer y el vestir»\nALTAR DE DOLORES\n\n\n\n\nDel 1 al 9 de abril de 12:00 a 7:00 pm\nEntrada gratuita\n\n\n\n\n\n\nCentro Cultural Fábrica de San Pedro\n\nMiguel Treviño 100\, Centro\, Uruapan\, Michoacán\n\n\n\n\n\n\n\n\n\n\n\n\n\n[/vc_column_text][/vc_column][/vc_row] \n
URL:https://fundacionjaviermarin.mx/encuentro/tianguis-artesanal-de-domingo-de-ramos/
LOCATION:Fabrica de San Pedro\, Miguel Treviño #100. Centro\, Uruapan\, Michoacan\, 6000\, México
CATEGORIES:Independientes,Multidisciplina,Otros
ATTACH;FMTTYPE=image/jpeg:https://fundacionjaviermarin.mx/wp-content/uploads/2023/03/Actividades-Semana-Santa-2023.jpeg
ORGANIZER;CN="Fundaci%C3%B3n%20Javier%20Mar%C3%ADn":MAILTO:contacto@fundacionjaviermarin.mx
END:VEVENT
BEGIN:VEVENT
DTSTART;TZID="UTC":20230331T170000
DTEND;TZID="UTC":20230408T180000
DTSTAMP:20260422T215138
CREATED:20230314T213841Z
LAST-MODIFIED:20230314T221803Z
UID:6510-1680282000-1680976800@fundacionjaviermarin.mx
SUMMARY:Muestra gastronómica en el Centro Cultural Fábrica de San Pedro
DESCRIPTION:[vc_row css_animation=»» row_type=»row» use_row_as_full_screen_section=»no» type=»full_width» angled_section=»no» text_align=»left» background_image_as_pattern=»without_pattern» padding_top=»60″][vc_column][vc_column_text] \n\n\n\n\n\n\nMUESTRA GASTRONÓMICA\nInauguración: Feria de Atoles y Tamales\, 31 de marzo\, 17 – 21 h \n\n\nCocina de Barrios\, Sábado 1 a sábado 8 de abril\, 13 – 18 h\n\n\n\n\n\n\n\n\nCentro Cultural Fábrica de San Pedro\n\nMiguel Treviño 100\, Centro\, Uruapan\, Michoacán\n\n\n\n\n\n\n\n\n\n\n\n\n\n[/vc_column_text][/vc_column][/vc_row] \n
URL:https://fundacionjaviermarin.mx/encuentro/muestra-gastronomica-en-el-centro-cultural-fabrica-de-san-pedro/
LOCATION:Fabrica de San Pedro\, Miguel Treviño #100. Centro\, Uruapan\, Michoacan\, 6000\, México
CATEGORIES:Independientes,Multidisciplina,Otros
ATTACH;FMTTYPE=image/jpeg:https://fundacionjaviermarin.mx/wp-content/uploads/2023/03/muestra-gastronomica-FSP-2023.jpg
ORGANIZER;CN="Fundaci%C3%B3n%20Javier%20Mar%C3%ADn":MAILTO:contacto@fundacionjaviermarin.mx
END:VEVENT
BEGIN:VEVENT
DTSTART;TZID="UTC":20230331T170000
DTEND;TZID="UTC":20230430T180000
DTSTAMP:20260422T215138
CREATED:20230317T190533Z
LAST-MODIFIED:20230317T190533Z
UID:6522-1680282000-1682877600@fundacionjaviermarin.mx
SUMMARY:Muestra fotográfica "Los años decisivos" de Manuel Álvarez Bravo en Centro Cultural Fábrica de San Pedro
DESCRIPTION:[vc_row css_animation=»» row_type=»row» use_row_as_full_screen_section=»no» type=»full_width» angled_section=»no» text_align=»left» background_image_as_pattern=»without_pattern» padding_top=»60″][vc_column][vc_column_text] \n\n\n\n\n\n\nMuestra fotográfica «Los años decisivos» de Manuel Álvarez Bravo\nInauguración: Viernes 31 de marzo\, 5:00 pm \nHasta el 30 de abril\n\n\nEntrada gratuita\n\n\n\n\n\n\n\nGran Nave\, Planta baja\nCentro Cultural Fábrica de San Pedro\n\nMiguel Treviño 100\, Centro\, Uruapan\, Michoacán\n\n\n\n\n\n\n\n\n\n\n\n\n\n[/vc_column_text][/vc_column][/vc_row] \n
URL:https://fundacionjaviermarin.mx/encuentro/tianguis-artesanal-de-domingo-de-ramos-2/
LOCATION:Fabrica de San Pedro\, Miguel Treviño #100. Centro\, Uruapan\, Michoacan\, 6000\, México
CATEGORIES:Independientes,Multidisciplina,Otros
ATTACH;FMTTYPE=image/png:https://fundacionjaviermarin.mx/wp-content/uploads/2023/03/Captura-de-Pantalla-2023-03-17-a-las-12.52.26.png
ORGANIZER;CN="Fundaci%C3%B3n%20Javier%20Mar%C3%ADn":MAILTO:contacto@fundacionjaviermarin.mx
END:VEVENT
BEGIN:VEVENT
DTSTART;TZID="UTC":20230331T170000
DTEND;TZID="UTC":20230416T180000
DTSTAMP:20260422T215138
CREATED:20230317T204548Z
LAST-MODIFIED:20230317T204638Z
UID:6528-1680282000-1681668000@fundacionjaviermarin.mx
SUMMARY:Altar de dolores en el Centro Cultural Fábrica de San Pedro
DESCRIPTION:[vc_row css_animation=»» row_type=»row» use_row_as_full_screen_section=»no» type=»full_width» angled_section=»no» text_align=»left» background_image_as_pattern=»without_pattern» padding_top=»60″][vc_column][vc_column_text] \n\n\n\n\n\nAltar de Dolores\n\n\nProyecto desarrollado por el restaurador Alfredo Marín\n\nInauguración: Viernes de Dolores\n31 de marzo 5:00 pm\n\n\nEntrada gratuita\n\n\nHasta el 16 de abril\n\n\n\n\n\n\n\n\nSala del Batiente\nCentro Cultural Fábrica de San Pedro\n\nMiguel Treviño 100\, Centro\, Uruapan\, Michoacán\n\n\n\n\n\n\n\n\n\n\n[/vc_column_text][/vc_column][/vc_row] \n
URL:https://fundacionjaviermarin.mx/encuentro/altar-de-dolores-proyecto-desarrollado-por-el-restaurador-alfredo-marin-inauguracion-viernes-de-dolores-31-de-marzo-500-pm-entrada-gratuita-hasta-el-16-de-abril-sala-del-batiente-centro-cultural-fa/
LOCATION:Fabrica de San Pedro\, Miguel Treviño #100. Centro\, Uruapan\, Michoacan\, 6000\, México
CATEGORIES:Independientes,Multidisciplina,Otros
ATTACH;FMTTYPE=image/png:https://fundacionjaviermarin.mx/wp-content/uploads/2023/03/Captura-de-Pantalla-2023-03-17-a-las-14.41.04.png
ORGANIZER;CN="Fundaci%C3%B3n%20Javier%20Mar%C3%ADn":MAILTO:contacto@fundacionjaviermarin.mx
END:VEVENT
BEGIN:VEVENT
DTSTART;TZID="UTC":20230331T170000
DTEND;TZID="UTC":20230430T180000
DTSTAMP:20260422T215138
CREATED:20230317T205009Z
LAST-MODIFIED:20230317T205750Z
UID:6532-1680282000-1682877600@fundacionjaviermarin.mx
SUMMARY:Exposición Acción: el hacer y el vestir de Carla Fernández en Centro Cultural Fábrica de San Pedro
DESCRIPTION:[vc_row css_animation=»» row_type=»row» use_row_as_full_screen_section=»no» type=»full_width» angled_section=»no» text_align=»left» background_image_as_pattern=»without_pattern» padding_top=»60″][vc_column][vc_column_text] \n\n\n\n\n\n\nExposición Acción: el hacer y el vestir de Carla Fernández\n\n\nHasta el 30 de abril\n\n\nEntrada gratuita\n\n\n\n\n\n\n\nGran Nave\, Planta baja\nCentro Cultural Fábrica de San Pedro\n\nMiguel Treviño 100\, Centro\, Uruapan\, Michoacán\n\n\n\n\n\n\n\n\n\n\n\n[/vc_column_text][/vc_column][/vc_row] \n
URL:https://fundacionjaviermarin.mx/encuentro/exposicion-accion-el-hacer-y-el-vestir-de-carla-fernandez/
LOCATION:Fabrica de San Pedro\, Miguel Treviño #100. Centro\, Uruapan\, Michoacan\, 6000\, México
CATEGORIES:Independientes,Multidisciplina,Otros
ATTACH;FMTTYPE=image/png:https://fundacionjaviermarin.mx/wp-content/uploads/2023/03/Captura-de-Pantalla-2023-03-17-a-las-14.41.26.png
ORGANIZER;CN="Fundaci%C3%B3n%20Javier%20Mar%C3%ADn":MAILTO:contacto@fundacionjaviermarin.mx
END:VEVENT
BEGIN:VEVENT
DTSTART;TZID="UTC":20230403T170000
DTEND;TZID="UTC":20230403T180000
DTSTAMP:20260422T215138
CREATED:20230325T192502Z
LAST-MODIFIED:20230420T222624Z
UID:6543-1680541200-1680544800@fundacionjaviermarin.mx
SUMMARY:«Habitar la memoria». Charla con el Arq. Felipe Leal
DESCRIPTION:[vc_row css_animation=»» row_type=»row» use_row_as_full_screen_section=»no» type=»full_width» angled_section=»no» text_align=»left» background_image_as_pattern=»without_pattern» padding_top=»60″][vc_column][vc_column_text] \n\n\n\n\n\n\n\n\n\n\n«Habitar la memoria». Charla con el Arq. Felipe Leal\nEl Centro Cultural Fábrica de San Pedro en colaboración con la corresponsalía Uruapan del Seminario de Cultura Mexicana te invita a la charla “Habitar la memoria” con el arquitecto Felipe Leal . \nLa charla girará en torno a su experiencia en la recuperación de edificios patrimoniales para convertirlos en proyectos culturales y de ejemplos emblemáticos en el mundo\, incluyendo la recuperación de la Fábrica de San Pedro a cargo de la Fundación Javier Marín en colaboración con el taller de arquitectura de Mauricio Rocha. \n3 de abril 2023 a las 5:00 pm \nCupo limitado. \nRegistro previo: 951 237 1879 \n\n\n\n\n\n\nCentro Cultural Fábrica de San Pedro\n\nMiguel Treviño 100\, Centro\, Uruapan\, Michoacán\n\n\n\n\n\n\n\n\n\n\n\n\n\n\n\n\n[/vc_column_text][/vc_column][/vc_row] \n
URL:https://fundacionjaviermarin.mx/encuentro/habitar-la-memoria-charla-con-el-arq-felipe-leal/
LOCATION:Fabrica de San Pedro\, Miguel Treviño #100. Centro\, Uruapan\, Michoacan\, 6000\, México
CATEGORIES:Independientes,Multidisciplina,Otros
ATTACH;FMTTYPE=image/png:https://fundacionjaviermarin.mx/wp-content/uploads/2023/03/FelipeLeal-1_Mesa-de-trabajo-1.png
ORGANIZER;CN="Fundaci%C3%B3n%20Javier%20Mar%C3%ADn":MAILTO:contacto@fundacionjaviermarin.mx
END:VEVENT
END:VCALENDAR