BEGIN:VCALENDAR
VERSION:2.0
PRODID:-//Fundación Javier Marín - ECPv4.9.7//NONSGML v1.0//EN
CALSCALE:GREGORIAN
METHOD:PUBLISH
X-WR-CALNAME:Fundación Javier Marín
X-ORIGINAL-URL:https://fundacionjaviermarin.mx
X-WR-CALDESC:Eventos para Fundación Javier Marín
BEGIN:VTIMEZONE
TZID:"UTC"
BEGIN:STANDARD
TZOFFSETFROM:+0000
TZOFFSETTO:+0000
TZNAME:UTC
DTSTART:20250101T000000
END:STANDARD
END:VTIMEZONE
BEGIN:VEVENT
DTSTART;TZID="UTC":20250820T130000
DTEND;TZID="UTC":20261201T200000
DTSTAMP:20260423T231305
CREATED:20250806T223501Z
LAST-MODIFIED:20250818T215148Z
UID:7505-1755694800-1796155200@fundacionjaviermarin.mx
SUMMARY:Fernando Aldama Baltazar. Art Deco Mexicano. 100 años de dinamismo e identidad en la Plaza Luis Cabrera\, Roma\, CDMX
DESCRIPTION:[vc_row css_animation=»» row_type=»row» use_row_as_full_screen_section=»no» type=»full_width» angled_section=»no» text_align=»left» background_image_as_pattern=»without_pattern» padding_top=»60″][vc_column][vc_column_text css=»»] \n\n\n\n\n\nFernando Aldama Baltazar.\nArt Deco Mexicano.\n100 años de dinamismo e identidad\nCuraduría por Rodrigo Torres Ramos\n\n\nExposición fotográfica al aire libre \n\nInauguración: 20 de agosto\, 13:00 hrs \nComo parte de la inauguración\, los inflables del artista cubano Ángel Ricardo Ricardo Ríos tomarán el parque \n\nPlaza Luis Cabrera\, Col. Roma\, CDMX \n\n[/vc_column_text][/vc_column][/vc_row] \n
URL:https://fundacionjaviermarin.mx/encuentro/art-deco-mexicano-100-anos-de-dinamismo-e-identidad/
LOCATION:Plaza Luis Cabrera\, Colonia Roma\, Ciudad de México\, Ciudad de Mexico\, 06700\, México
CATEGORIES:Independientes,Multidisciplina,Otros,Performance
ATTACH;FMTTYPE=image/jpeg:https://fundacionjaviermarin.mx/wp-content/uploads/2025/08/Art-Deco-Mexicano.jpeg
ORGANIZER;CN="Fundaci%C3%B3n%20Javier%20Mar%C3%ADn":MAILTO:contacto@fundacionjaviermarin.mx
END:VEVENT
BEGIN:VEVENT
DTSTART;TZID="UTC":20260327T190000
DTEND;TZID="UTC":20270228T190000
DTSTAMP:20260423T231305
CREATED:20260423T172103Z
LAST-MODIFIED:20260423T190649Z
UID:7686-1774638000-1803841200@fundacionjaviermarin.mx
SUMMARY:Exposición Sala de Máquinas: Arqueología Industrial en el Centro Cultural Fábrica de San Pedro
DESCRIPTION:[vc_row css_animation=»» row_type=»row» use_row_as_full_screen_section=»no» type=»full_width» angled_section=»no» text_align=»left» background_image_as_pattern=»without_pattern» padding_top=»60″][vc_column][vc_column_text css=»»] \n\n\n\n\n\n\n\n\nExposición \nSala de Máquinas: Arqueología Industrial\nA partir del 27 de marzo de 2026\nde jueves a domingo de 12:00 a 7:00 pm\nEntrada libre\n\nProducción nacional de artes visuales realizada con el estímulo fiscal del artículo 190 de la LISR (EFIARTES)\n\nCentro Cultural Fábrica de San Pedro\nMiguel Treviño #100\, Centro\, Uruapan\, Mich.\n\n\n\n\n\n\n\n\n[/vc_column_text][/vc_column][/vc_row] \n
URL:https://fundacionjaviermarin.mx/encuentro/exposicion-sala-de-maquinas-arqueologia-industrial-en-el-centro-cultural-fabrica-de-san-pedro/
LOCATION:Fundación Javier Marín\, Orizaba #190\, Ciudad de México\, Ciudad de México\, 06700\, México
CATEGORIES:Independientes,Multidisciplina,Otros,Performance
ATTACH;FMTTYPE=image/png:https://fundacionjaviermarin.mx/wp-content/uploads/2026/04/Poster-cuadrado-Sala-de-maquinas-CCFSP-02.png
ORGANIZER;CN="Fundaci%C3%B3n%20Javier%20Mar%C3%ADn":MAILTO:contacto@fundacionjaviermarin.mx
END:VEVENT
END:VCALENDAR